BEGIN:VCALENDAR
VERSION:2.0
PRODID:-//wp-events-plugin.com//7.2.3.1//EN
TZID:Europe/Berlin
X-WR-TIMEZONE:Europe/Berlin
BEGIN:VEVENT
UID:124@isbberlin.com
DTSTART;TZID=Europe/Berlin:20220520T000000
DTEND;TZID=Europe/Berlin:20220522T000000
DTSTAMP:20220506T110307Z
URL:https://www.isbberlin.com/events/einfuehrungskurs-sexological-bodywork
 -berlin-de-5/
SUMMARY:Einführungskurs Sexological Bodywork\, Berlin (de)
DESCRIPTION:Möchtest du dir noch viel mehr Lust\, Genuss und Freude gönne
 n?\n\nBetrachtest du dich selbst als erotische_n Forscher_In\, die_der das
  weite Spektrum Sexualität als fortdauernde Lern- und Entwicklungschance 
 ansieht?\n\nMöchtest du andere dabei begleiten\, wie sie sich in und durc
 h ihre Sexualität weiterentwickeln können?\n\nSexological Bodywork ist e
 in neuer körperbasierter Ansatz mit dem Ziel\, den Menschen zu einem Mehr
  an sexueller Gesundheit zu verhelfen. Der Kurs zeigt\, welche Bedeutung K
 örperlichkeit und Bewusstheit hierfür haben\, und öffnet dir neue Wege\
 , um\n\n 	deine eigene Erotik stärker erlebbar zu verkörpern (erotic emb
 odiment)- tiefere Verbundenheit in deinen intimen Begegnungen zu schaffen\
 n 	deine sexuellen Erfahrungen bewusster zu gestalten (sexual empowerment)
 \n 	dein Wissen über deine Sexualität zu vertiefen und deine erotischen 
 Fähigkeiten weiter zu entwickeln\n\nGrundlage unserer gemeinsamen Reise s
 ind Atemarbeit\, bewusste und sinnliche Ganzkörperberührung im Geben und
  Empfangen\, Meditation sowie kreativer und fokusierter Körperausdruck.\n
 \n&nbsp\;\n\nZielgruppe\n\nDieser Kurs dient als Überblicks- und Vorberei
 tungskurs für zukünftige Sexological Bodyworker*innen\, die das Jahrestr
 aining 2023 absolvieren möchten. Er ist für alle Menschen geeignet\, die
  neue Methoden für ihre berufliche Arbeit im Bereich Sexualität (als Bod
 yworker*in\, Coach\, Therapeut*in\, Masseur*in etc.) kennen lernen wollen\
 , oder die einfach nur ihr Liebesleben neu entdecken und bereichern möcht
 en.\n\nDie ersten Kursplätze werden an die Teilnehmenden des Jahrestraini
 ngs 2023 im Rahmen des Bewerbungsprozesses für die Gesamtausbildung verge
 ben. Die Einsendung von Bewerbungen ist bis zum 10. April möglich. Hier e
 rfährst du alles über die Anmeldung zur Ausbildung.\n\nDie übrigen Plä
 tze werden ab dem 26. April 2022 buchbar sein. Diese Plätze sind auch fü
 r Menschen offen\, die nicht ausdrücklich an der Ausbildung interessiert 
 sind. Die Buchung dieser Plätze erfolgt über das Buchungssystem unserer 
 Webseite (hier auf dieser Kalenderseite). Es tut uns leid\, dass wir aus K
 apazitätsgründen keine Platzreservierungen auf anderem Wege annehmen kö
 nnen. Wir bitten euch\, von Reservierungsanfragen per Email abzusehen.\n\n
 &nbsp\;\n\nTrainer_Innen:\n\nMareen Scholl\, ISB Berlin\nNino Mar Seliz\, 
 ISB Berlin\n\nZeiten\n\nFreitag 10 bis 20Uhr\n\nSamstag 10 bis 20Uhr\n\nSo
 nntag 10 bis 19Uhr\n\nOrt\n\nvillage.berlin - community center\nKurfürste
 nstrasse 31/32\n10785 Berlin\n\n\nKosten\n\nEUR 390.00 / 700.00 für Paare
 *\n\nFrühbucher-Rabatt\nBei Anmeldung bis 2 Monate vor Kursbeginn: EUR 40
 .00 reduziert\n\nWeitere Information\ninfo@isbberlin.com\n\nAnmeldung\nüb
 er unser Reservierungsformular\n\n&nbsp\;\n\n*Paare nach Selbstdefinition/
  Zwei Personen\, die sich zusammen anmelden
LOCATION:Village Berlin\, Kurfürstenstrasse 31/32\, Berlin\, 10785\, Deuts
 chland
X-APPLE-STRUCTURED-LOCATION;VALUE=URI;X-ADDRESS=Kurfürstenstrasse 31/32\, 
 Berlin\, 10785\, Deutschland;X-APPLE-RADIUS=100;X-TITLE=Village Berlin:geo
 :0,0
END:VEVENT
BEGIN:VTIMEZONE
TZID:Europe/Berlin
X-LIC-LOCATION:Europe/Berlin
BEGIN:DAYLIGHT
DTSTART:20220327T030000
TZOFFSETFROM:+0100
TZOFFSETTO:+0200
TZNAME:CEST
END:DAYLIGHT
END:VTIMEZONE
END:VCALENDAR