BEGIN:VCALENDAR
VERSION:2.0
PRODID:-//wp-events-plugin.com//7.2.3.1//EN
TZID:Europe/Berlin
X-WR-TIMEZONE:Europe/Berlin
BEGIN:VEVENT
UID:300@isbberlin.com
DTSTART;TZID=Europe/Berlin;VALUE=DATE:20260918
DTEND;TZID=Europe/Berlin;VALUE=DATE:20260921
DTSTAMP:20260114T130048Z
URL:https://www.isbberlin.com/events/einfuehrungskurs-sexological-bodywork
 -fuer-maennlichkeiten/
SUMMARY:Einführungskurs Sexological Bodywork -für Männlichkeiten (cis\, 
 trans*\, inter* und nichtbinär)
DESCRIPTION:Wir möchte das erste Mal einen Einführungskurs für cis\, tra
 ns*\, inter* und nichtbinäre Männlichkeiten anbieten. Der Kurs wird von 
 einem cis-Mann und einer transmaskulinen Person angeboten.\n\nBetrachtest 
 du dich selbst als erotisch forschendes Wesen\, welches Sexualität als fo
 rtdauernde Lern- und Entwicklungschance ansieht? Dies ist eine Einladung f
 ür alle Menschen\, die Interesse an der Methode Sexological Bodywork für
  Selbsterfahrung und weniger für die Ausbildung haben und mehr in Richtun
 g Lust\, somatischen Genuss und Freude forschen möchten.\n\nSexological B
 odywork ist ein körperbasierter Ansatz mit der Idee\, Menschen für ein e
 rweitertes Sexualitätsspektrum zu unterstützen. Der Kurs zeigt\, welche 
 Bedeutung Körperlichkeit und Bewusstheit hierfür haben\, und kann dir ne
 ue Wege öffnen\, um\n\n 	deine eigene Erotik stärker erlebbar zu verkör
 pern (erotic embodiment)\n 	tiefere Verbundenheit in deinen intimen Begegn
 ungen zu schaffen\n 	deine sexuellen Erfahrungen bewusster zu gestalten (s
 exual empowerment)\n 	dein Wissen über deine Sexualität zu vertiefen und
  deine erotischen Fähigkeiten weiter zu entwickeln\n\nGrundlage unserer g
 emeinsamen Erfahrung sind Atemarbeit\, Arbeit zu Konsent &amp\; Berührung
 \, bewusste und sinnlich optionale Ganzkörperberührung im Geben und Empf
 angen\, Meditation sowie kreativer und fokussierter Körperausdruck. Alle 
 Körper sind willkommen. Wir werden Zeit geben für die Übungen und auch 
 für das Einrichten der jeweiligen Übungen.\n\nDieser Einführungs-Worksh
 op richtet sich an Menschen\, die ihr Leben mit mehr bewusster Intimität 
 und Sinnlichkeit und verkörperter Erotik bereichern möchten.  Dieser Ku
 rs dient auch als Überblicks- und Vorbereitungskurs für zukünftige Sexo
 logical Bodyworker:innen.\n\nEs gibt bei jeder Übung die Möglichkeit\, d
 iese individuell zu gestalten\, fernab von richtig und falsch\, ohne Normv
 orstellungen. Wir begegnen dir mit einer traumainformierten Haltung und la
 den zum Mutig sein ein (braver space).\n\nSprache: deutsche Lautsprache\n\
 nBarrieren: Der Raum befindet sich im 1. OG.\, ist über eine Treppe errei
 chbar. Der Kurs ist kostenpflichtig. Es gibt kein Blindenleitsystem. Der K
 urs findet in Lautsprache statt. Wir sind uns bewusst\, dass dies Ausschl
 üsse kreirt. Wir arbeiten daran\, einen eigenen barrierefreien Ort bezieh
 en zu können. Momentan mieten wir uns für unsere Angebote noch in extern
 e Räumlichkeiten ein.\n\nWenn du Fragen dazu hast\, melde dich gerne jede
 rzeit. Bitte schreibe in deine Anmeldung\, was dich unterstützen könnte\
 , um gut teilnehmen zu können.\n\nDie Plätze sind begrenzt\, eine frühz
 eitige Anmeldung wird empfohlen. Maximal 12 Teilnehmende\n\nWenn du weiter
 e Fragen hast\, melde dich gerne. \n\nTrainer:Innen: \n\nNico Semmler\n\n
 Nino Mar Seliz\n\n&nbsp\;\n\n&nbsp\;\n\nZeiten:\nFreitag    18:30 - 21U
 hr\nSamstag  10-18 Uhr\nSonntag  10-17 Uhr\n\nOrt: Berlin\, wird bei Anm
 eldung bekannt gegeben. \n\n\nPreis:\nFrühbuchpreis bis 1. Mai 2026: 320
 Euro\n\nRegulärpreis: 380Euro\n\nPreise umsatzsteuerbefreit nach UstG §4
  Nr. 21a\n\nFür weitere Informationen und Fragen: \ninfo@isbberlin.com\n\
 n\n&nbsp\;\n\nBildquelle: https://i.pinimg.com/originals/2a/89/ce/2a89ceff
 7ca7d38bcfcd0272e36c0a1d
ATTACH;FMTTYPE=image/jpeg:https://www.isbberlin.com/wp-content/uploads/202
 5/10/Bild.jpg
CATEGORIES:Workshop
END:VEVENT
BEGIN:VTIMEZONE
TZID:Europe/Berlin
X-LIC-LOCATION:Europe/Berlin
BEGIN:DAYLIGHT
DTSTART:20260329T030000
TZOFFSETFROM:+0100
TZOFFSETTO:+0200
TZNAME:CEST
END:DAYLIGHT
END:VTIMEZONE
END:VCALENDAR