BEGIN:VCALENDAR
VERSION:2.0
PRODID:-//wp-events-plugin.com//7.2.3.1//EN
TZID:Europe/Berlin
X-WR-TIMEZONE:Europe/Berlin
BEGIN:VEVENT
UID:61@isbberlin.com
DTSTART;TZID=Europe/Berlin:20200515T083000
DTEND;TZID=Europe/Berlin:20200515T183000
DTSTAMP:20200219T142115Z
URL:https://www.isbberlin.com/events/embodied-counselling-certificate-with
 -deej-juventin-in-berlin/
SUMMARY:Embodied Counselling Certificate with Deej Juventin in Berlin
DESCRIPTION:I am very happy to announce that Deej Juventin\, one of my favo
 rite somatic and embodied teacher and educator\, will come to Berlin in Su
 mmer 2020 to share his special and well-developed Embodied Counselling Tra
 ining with us.\n\nThis is what Deej is sharing with us\n\nI am delighted t
 o be returning to Berlin to teach the Introductory Certificate in Embodied
  Counselling\, and to have the opportunity to connect more with our somati
 c colleagues from across Europe\, those established as well as those begin
 ning their journey.\nMy passion is training practitioners to work somatica
 lly\, and teaching somatically. The body\, when talking somatically\, is t
 he process of having awareness in the living moment\, enabling us to acces
 s the full breadth of information available – from the physical organism
 \, emotion\, environment\, arousal\, social interactions\, to name a few.\
 nThis training focuses on simple somatic skills to support our clients (an
 d ourselves) with the emotional aspect of their experience. Rather than av
 oid or get lost in emotion\, we can access it as a guide in moving through
  the world\, to live with more discernment\, more wisdom\, and more vitali
 ty.\n\nMore information\n\nThe Introductory Certificate in Embodied Counse
 lling is a profoundly useful and embodied professional development program
  for people working in the helping professions\, offering simple\, effecti
 ve and powerful information and tools.\nThe training connects embodied pra
 ctice with psychotherapeutic theory\, language and practice. You will deve
 lop a grounded foundation in information on psychotherapeutic approaches l
 eading to the current shift towards somatic approaches\, as well as study 
 the basic neurological information that supports the importance of these a
 pproaches (there is a revolution going on in neuroscience that is providin
 g empirical support for the importance of embodied work). At the same time
 \, you develop effective\, and foundational\, embodied counselling skills 
 – ways to support clients to become aware of and work with what they are
  experiencing through the body. You also develop your own sense of embodim
 ent and effective practices to support clients in getting started with emb
 odied practice.\n\nWe achieve this through:\n- easy to follow course mater
 ials and study guides for the 9-week program\n- 7 live Zoom classes\n- 9 w
 eeks of guided practice\n- Opportunities to expand your knowledge in areas
  of your choice through guided research\n- Practice\, reflection and feedb
 ack of embodied counselling sessions\n- 3 days together practicing\, study
 ing and further embodying the learning/3-day intensive in Berlin to integr
 ate the learning in July 17th -19th 2020\n- The community and vibrancy of 
 co-created embodied learning\n\nTeaching\, guidance\, and coaching from De
 ej Juventin\, in:\n• how to further develop your capacity for embodiment
  and how\nto transfer these skills to clients\n• 7 essential and effecti
 ve practices of embodied coaching\, plus\ndozens more to explore and exper
 iment with\n• how to develop effective embodiment practices\n• practic
 e in cultivating the qualities of effective practitioners\n• specific pr
 actice in 8 effective skills of embodied counselling\n• demystifying cou
 nselling and psychotherapy through an\noverview of the major approaches an
 d terminology\n• the basic concepts of interpersonal neurobiology\n• a
 n overview of the neurobiology of emotions\, relationships and\ntrauma\n\n
 On satisfactory completion of all requirements\, students are awarded the 
 Introductory Certificate in Embodied Counselling by the Institute of Somat
 ic Sexology.\n\nHere is the direct link to the website:\nhttps://institute
 ofsomaticsexology.com/courses/introductory-certificate-in-embodied-counsel
 ling\n\nRegistration\n\nNino Mar Seliz\n\nnino@isbberlin.com\n\nThere is a
  chance to have a 30 minute Zoom call with everyone interested in taking t
 he training with Deej\, to go over what is involved and answer any questio
 ns you have.\nPossible dates for a call\, for registration please contact:
 \ninfo@instituteofsomaticsexology.com\n\nFebruary 19th at 8am Berlin / 5pm
  Brisbane\nMarch 3rd at 8am Berlin / 5pm Brisbane\nMarch 10th at 8am Berli
 n / 5pm Brisbane\n\nCourse description and enrolment form\n\nIntroductory 
 Certificate in Embodied Counselling (PDF)\n\nLanguage\n\nEnglish\n\nVenue\
 n\nthe venue will be in Berlin Kreuzberg/Schöneberg and will be wheelchai
 r-accessible\n\nCourse-fee\n\nEarly-bird: €1250 until March 15th 2020\nF
 ull-price: €1500 (full payment must be received by April 20\, 2020)\nISS
  Student Discount:  €100 (Discount for people who have completed a cert
 ificate training with ISS within the last 2 years)\nDeposit: €200 The no
 n-refundable deposit secures your place on the training\n\nWarmly\nDeej Ju
 ventin\n\nThis is what people share after the certificate training\n\n“T
 he training was fantastic. It filled in lots gaps in my knowledge\, gave m
 e new spaces to fill up with the knowledge I will continue to gather\, and
  affirmed\, consolidated and linked together my existing abilities.”\n\n
 “It was a wonderful opportunity to invite more embodiment into my life. 
 I enjoyed the load and pace of the learning.”\n\n“Great mixture of the
 ory and practical.”\n\n“I feel more confident in my skills and my abil
 ity.”\n\n“Wonderful complement for counsellors\, sex bod workers\, and
  anyone working in helping professions.”\n\n“Awesome doorway into grea
 ter understanding of somatic enquiry and counselling.”\n“Great teachin
 g.”\n\nmore video-info here:\nhttps://www.youtube.com/watch?v=G3E2NkLBrM
 c
CATEGORIES:Ausbildung
END:VEVENT
BEGIN:VTIMEZONE
TZID:Europe/Berlin
X-LIC-LOCATION:Europe/Berlin
BEGIN:DAYLIGHT
DTSTART:20200329T030000
TZOFFSETFROM:+0100
TZOFFSETTO:+0200
TZNAME:CEST
END:DAYLIGHT
END:VTIMEZONE
END:VCALENDAR