BEGIN:VCALENDAR
VERSION:2.0
PRODID:-//wp-events-plugin.com//7.2.3.1//EN
TZID:Europe/Berlin
X-WR-TIMEZONE:Europe/Berlin
BEGIN:VEVENT
UID:298@isbberlin.com
DTSTART;TZID=Europe/Berlin;VALUE=DATE:20260313
DTEND;TZID=Europe/Berlin;VALUE=DATE:20260316
DTSTAMP:20260302T165623Z
URL:https://www.isbberlin.com/events/fuer-queere-paare/
SUMMARY:Einführungskurs Sexological Bodywork -Tools lernen- für queere Pa
 are & MPS\, Berlin
DESCRIPTION:Das erste mal findet unter dem Dach des ISB ein Einführungskur
 s in Methoden aus Sexological Bodywork für queere Paare oder MPS (Mehr-Pe
 rsonen-Konstellationen) statt\, nach dem Motto "Tools lernen"\n\nFindest d
 u Sexualität in deiner Beziehung herausfordernd\, bist du davon gestresst
 \, gehemmt oder hast keine Idee\, wie du das verändern kannst. Oder betra
 chtest du dich selbst als erotisch forschendes Wesen\, welches Sexualität
  in Beziehung als fortdauernde Lern- und Entwicklungschance ansieht? Dies 
 ist eine Einladung für alle queeren Menschen in Beziehung_en\, die Intere
 sse an der Methode Sexological Bodywork für Selbsterfahrung und weniger f
 ür die Ausbildung haben und mehr in Richtung Lust aka Pleasure\, somatisc
 hen Genuss und Freude forschen möchten und neue Wege für Kontakt und int
 eressante Impulse für andere Formen von Kontakt/Intimität und Nähe find
 en wollen. Manchmal braucht es Raum für Inspiration\, um mit Themen weite
 r zu kommen. Das könnte ein Raum für dich/euch sein.\n\nSexological Body
 work ist ein körperbasierter Ansatz mit der Idee\, Menschen für ein erwe
 itertes Sexualitätsspektrum zu unterstützen. Der Kurs zeigt\, welche Bed
 eutung Körperlichkeit und Bewusstheit hierfür haben\, und kann dir neue 
 Wege öffnen und Tools vermitteln\, um\n\n 	die eigene Erotik stärker erl
 ebbar zu verkörpern (erotic embodiment)\n 	tiefere Verbundenheit in deine
 n intimen Begegnungen zu schaffen\n 	deine sexuellen Erfahrungen bewusster
  zu gestalten (sexual empowerment)\n 	dein Wissen über deine Sexualität 
 zu vertiefen und deine erotischen Fähigkeiten im Kontakt weiter zu entwic
 keln\n\nGrundlage unserer gemeinsamen Erfahrung sind Atemarbeit\, Arbeit z
 u Konsent &amp\; Berührung\, bewusste und sinnlich optionale Ganzkörperb
 erührung im Geben und Empfangen\, Meditation sowie kreativer und fokussie
 rter Körperausdruck. Alle Körper sind willkommen. Wir werden Zeit geben 
 für die Übungen und auch für das Einrichten der jeweiligen Übungen.\n\
 nEs gibt bei jeder Übung die Möglichkeit\, diese individuell zu gestalte
 n\, fernab von richtig und falsch\, ohne Normvorstellungen. Wir begegnen d
 ir mit einer traumainformierten Haltung und laden zum Mutig sein ein (brav
 er space).\n\nSprache: deutsche Lautsprache (Gebärdensprachübersetzung a
 uf Anfrage möglich)\n\nBarrieren: Der Raum ist über Treppenstufen erreic
 hbar. Der Kurs ist kostenpflichtig und wird in deutscher Lautsprache statt
 finden. Wenn du Fragen dazu hast\, melde dich gerne jederzeit. Bitte schre
 ibe in deine Anmeldung\, was dich unterstützen könnte\, um gut teilnehme
 n zu können.\n\nDie Plätze sind begrenzt\, eine frühzeitige Anmeldung w
 ird empfohlen. Maximal 12 Teilnehmende\n\nWenn du weitere Fragen hast\, me
 lde dich gerne. \n\nQTN- Trainer:innen:\n\n                    
                            \n\nGregöre Hamann         
                                                  
                      Nino Mar Seliz\n\n&nbsp\;\n\n&nbsp\;\n\nOr
 t: Berlin- Mitte\, genaue Adresse wird bei Anmeldung bekannt gegeben\n\nZe
 iten:\nFreitag    18:30 - 21Uhr\nSamstag  11-18 Uhr\nSonntag  11-17 U
 hr\n\nPreis:\nRegulärpreis 350Euro pro Person\n\nPreise umsatzsteuerbefre
 it nach UstG §4 Nr. 21a\n\nFür weitere Informationen und Fragen: \ninfo@
 isbberlin.com\n\n\nWir freuen uns auf dich\,\n\nGregöre und Nino
ATTACH;FMTTYPE=image/jpeg:https://www.isbberlin.com/wp-content/uploads/202
 3/02/slider-lgbtinqa.jpg
CATEGORIES:Workshop
END:VEVENT
BEGIN:VTIMEZONE
TZID:Europe/Berlin
X-LIC-LOCATION:Europe/Berlin
BEGIN:STANDARD
DTSTART:20251026T020000
TZOFFSETFROM:+0200
TZOFFSETTO:+0100
TZNAME:CET
END:STANDARD
END:VTIMEZONE
END:VCALENDAR