BEGIN:VCALENDAR
VERSION:2.0
PRODID:-//wp-events-plugin.com//7.2.3.1//EN
TZID:Europe/Berlin
X-WR-TIMEZONE:Europe/Berlin
BEGIN:VEVENT
UID:329@isbberlin.com
DTSTART;TZID=Europe/Berlin:20260521T190000
DTEND;TZID=Europe/Berlin:20260521T200000
DTSTAMP:20260407T151023Z
URL:https://www.isbberlin.com/events/infocall-fortbildung-verkorpert-begle
 iten-baustein-a-2/
SUMMARY:Infocall Fortbildung "VERKÖRPERT BEGLEITEN"\, Baustein A
DESCRIPTION:Wir bieten dir einen Infocall zu unserer neuen Fortbildungsreih
 e "VERKÖRPERT BEGLEITEN" an (Teil A\, B und C - einzeln buchbar) . In die
 sem Call stellen wir dir unser Angebot vor und beantworten deine Fragen.\n
 \nHier ist der link zum event:\n\nAn Zoom-Meeting teilnehmen\nhttps://us06
 web.zoom.us/j/84858341500?pwd=PO6XbjoMamEHOHXtrjizMYTbgAFwtu.1\n\nMeeting-
 ID: 848 5834 1500\nKenncode: 088721\n\nEine Registrierung ist nicht notwen
 dig.\n\n&nbsp\;\n\n&nbsp\;
END:VEVENT
BEGIN:VTIMEZONE
TZID:Europe/Berlin
X-LIC-LOCATION:Europe/Berlin
BEGIN:DAYLIGHT
DTSTART:20260329T030000
TZOFFSETFROM:+0100
TZOFFSETTO:+0200
TZNAME:CEST
END:DAYLIGHT
END:VTIMEZONE
END:VCALENDAR