BEGIN:VCALENDAR
VERSION:2.0
PRODID:-//wp-events-plugin.com//7.2.3.1//EN
TZID:Europe/Berlin
X-WR-TIMEZONE:Europe/Berlin
BEGIN:VEVENT
UID:302@isbberlin.com
DTSTART;TZID=Europe/Berlin:20251105T183000
DTEND;TZID=Europe/Berlin:20251105T193000
DTSTAMP:20251029T121028Z
URL:https://www.isbberlin.com/events/infocall-koerper-im-kontext-jahresfor
 tbildung-online-zoom/
SUMMARY:Infocall: Körper im Kontext - Jahresfortbildung (online/zoom)
DESCRIPTION:Wir bieten einen Infocall für die Fortbildungsreihe Körper im
  Kontext. Mehr Informationen zu unserem Angebot findest du hier\n\nDies is
 t der Einwahllink zu der Veranstaltung:\n\nhttps://us06web.zoom.us/j/83191
 639122?pwd=I3vzsac29J3PdfyG9fSn3U1y340Br5.1\n\nMeeting-ID: 831 9163 9122\n
 Kenncode: 497700\n\nEine Anmeldung für den Infocall ist nicht erforderlic
 h.\n\nAnmeldung für einen Platz bei Körper im Kontext: \n\nBei Interess
 e an der Reihe\, fülle das Anmeldeformular aus und schicke dieses an uns.
  Wir nehmen Anmeldungen bis zum 15.11.2025 entgegen und melden uns dann bi
 s zum 30.11.2025 zurück\, ob du den Platz sicher hast.  Die Plätze werd
 en begrenzt sein. Es wird 20 Plätze geben.\n\nWir freuen uns dich dabei z
 u haben!\n\nDana\, Lovis\, Elsa\, Lukas und Nino\n\n&nbsp\;
ATTACH;FMTTYPE=image/jpeg:https://www.isbberlin.com/wp-content/uploads/202
 5/07/image-team-komplett.jpg
END:VEVENT
BEGIN:VTIMEZONE
TZID:Europe/Berlin
X-LIC-LOCATION:Europe/Berlin
BEGIN:STANDARD
DTSTART:20251026T020000
TZOFFSETFROM:+0200
TZOFFSETTO:+0100
TZNAME:CET
END:STANDARD
END:VTIMEZONE
END:VCALENDAR