BEGIN:VCALENDAR
VERSION:2.0
PRODID:-//wp-events-plugin.com//7.2.3.1//EN
TZID:Europe/Berlin
X-WR-TIMEZONE:Europe/Berlin
BEGIN:VEVENT
UID:316@isbberlin.com
DTSTART;TZID=Europe/Berlin:20260420T123000
DTEND;TZID=Europe/Berlin:20260420T133000
DTSTAMP:20260415T090000Z
URL:https://www.isbberlin.com/events/infocall-verkoerpert-begleiten-3/
SUMMARY:Infocall Fortbildung "VERKÖRPERT BEGLEITEN"\, Baustein A
DESCRIPTION:Wir bieten dir einen Infocall zu unserer neuen Fortbildungsreih
 e "VERKÖRPERT BEGLEITEN" an (Teil A\, B und C - einzeln buchbar) . In die
 sem Call stellen wir dir unser Angebot vor und beantworten deine Fragen.\n
 \nHier ist der link zum event:\n\nAn Zoom-Meeting teilnehmen\nhttps://us06
 web.zoom.us/j/84858341500?pwd=PO6XbjoMamEHOHXtrjizMYTbgAFwtu.1\n\nMeeting-
 ID: 848 5834 1500\nKenncode: 088721\n\nEine Registrierung ist nicht notwen
 dig.\n\nweitere Termine:\n\n4.5.2026 von 12:30-13:30Uhr\n\n21.5.2026 von 1
 9-20Uhr\n\n&nbsp\;\n\n&nbsp\;
ATTACH;FMTTYPE=image/jpeg:https://www.isbberlin.com/wp-content/uploads/202
 6/03/signal-2026-03-06-12-46-54-571.jpg
END:VEVENT
BEGIN:VTIMEZONE
TZID:Europe/Berlin
X-LIC-LOCATION:Europe/Berlin
BEGIN:DAYLIGHT
DTSTART:20260329T030000
TZOFFSETFROM:+0100
TZOFFSETTO:+0200
TZNAME:CEST
END:DAYLIGHT
END:VTIMEZONE
END:VCALENDAR