BEGIN:VCALENDAR
VERSION:2.0
PRODID:-//wp-events-plugin.com//7.2.3.1//EN
TZID:Europe/Berlin
X-WR-TIMEZONE:Europe/Berlin
BEGIN:VEVENT
UID:312@isbberlin.com
DTSTART;TZID=Europe/Berlin:20260323T123000
DTEND;TZID=Europe/Berlin:20260323T133000
DTSTAMP:20260308T103544Z
URL:https://www.isbberlin.com/events/infocall-verkoerperte-begleitung/
SUMMARY:Infocall Fortbildung "VERKÖRPERT BEGLEITEN"\, Baustein A
DESCRIPTION:Wir bieten dir einen Infocall zu unserer neuen Fortbildungsreih
 e "VERKÖRPERT BEGLEITEN" an (Teil A\, B und C - einzeln buchbar) . In die
 sem Call stellen wir dir unser Angebot vor und beantworten deine Fragen.\n
 \nHier ist der link zum event:\n\nAn Zoom-Meeting teilnehmen\nhttps://us06
 web.zoom.us/j/84858341500?pwd=PO6XbjoMamEHOHXtrjizMYTbgAFwtu.1\n\nMeeting-
 ID: 848 5834 1500\nKenncode: 088721\n\nEine Registrierung ist nicht notwen
 dig.\n\nweitere Termine:\n\n11.3.2026 von 18:30-19:30Uhr\n\n20.4.2026 von 
 12:30-13:30Uhr\n\n&nbsp\;
END:VEVENT
BEGIN:VTIMEZONE
TZID:Europe/Berlin
X-LIC-LOCATION:Europe/Berlin
BEGIN:STANDARD
DTSTART:20251026T020000
TZOFFSETFROM:+0200
TZOFFSETTO:+0100
TZNAME:CET
END:STANDARD
END:VTIMEZONE
END:VCALENDAR