BEGIN:VCALENDAR
VERSION:2.0
PRODID:-//wp-events-plugin.com//7.2.3.1//EN
TZID:Europe/Berlin
X-WR-TIMEZONE:Europe/Berlin
BEGIN:VEVENT
UID:311@isbberlin.com
DTSTART;TZID=Europe/Berlin:20260225T193000
DTEND;TZID=Europe/Berlin:20260225T210000
DTSTAMP:20260113T182245Z
URL:https://www.isbberlin.com/events/infocall-zur-sexological-bodywork-aus
 bildung-2026-27-2/
SUMMARY:Infocall zur Sexological Bodywork Ausbildung 2026/27
DESCRIPTION:Im August 2026 startet die nächste Sexological Bodywork Ausbil
 dung am ISB Berlin. Diese berufsbegleitende Ausbildung richtet sich an all
 e\, die ihr Wissen über Sexualität und Körperarbeit vertiefen möchten 
 – unabhängig von beruflicher Vorerfahrung. Voraussetzung für die Teiln
 ahme an der Ausbildung sind die Teilnahme an einem unserer Einführungskur
 se als auch an einem Wheel of Consent-Kurs. Weitere Infos dazu findest du 
 in der Ausbildungsveschreibung.\n\nUm einen umfassenden Einblick in die Au
 sbildung zu geben\, laden wir herzlich zu einem unserer Info-Call ein. Dor
 t stellen wir die Inhalte\, den Ablauf und die Ziele der Ausbildung vor un
 d stehen für Fragen zur Verfügung.\n\nModeriert von den Ausbildungsleite
 nden Mareen Scholl und Zaf Roser.\n\nHier ist der link:\n\nAn Zoom-Meeting
  teilnehmen\nhttps://us06web.zoom.us/j/84360895686?pwd=UHPe1AbwraUmQ1g6YKJ
 ksWLKfhdZOg.1\n\nMeeting-ID: 843 6089 5686\nKenncode: 960431\n\nEine Regis
 trierung ist nicht notwendig\n\nWir freuen uns darauf\, dich kennenzulerne
 n und deine Fragen zu beantworten!\n\nweiterer Termin:\n\n17.01. 12.00-13.
 30 Uhr
ATTACH;FMTTYPE=image/jpeg:https://www.isbberlin.com/wp-content/uploads/202
 5/12/Kein-Titel-1080-x-1350-px.jpg
END:VEVENT
BEGIN:VTIMEZONE
TZID:Europe/Berlin
X-LIC-LOCATION:Europe/Berlin
BEGIN:STANDARD
DTSTART:20251026T020000
TZOFFSETFROM:+0200
TZOFFSETTO:+0100
TZNAME:CET
END:STANDARD
END:VTIMEZONE
END:VCALENDAR