BEGIN:VCALENDAR
VERSION:2.0
PRODID:-//wp-events-plugin.com//7.2.3.1//EN
TZID:Europe/Berlin
X-WR-TIMEZONE:Europe/Berlin
BEGIN:VEVENT
UID:276@isbberlin.com
DTSTART;TZID=Europe/Berlin;VALUE=DATE:20260305
DTEND;TZID=Europe/Berlin;VALUE=DATE:20260309
DTSTAMP:20251221T173224Z
URL:https://www.isbberlin.com/events/let-me-be-your-fantasy-2/
SUMMARY:Let me be your fantasy - an experimental deep dive (English languag
 e)
DESCRIPTION:\nEnglish text soon.\n\n\n\nLet me be your Fantasy - sagt dein 
 Kopf\, sagt dein Herz\, dein Bauch und Genital. Wo sitzt er denn nun\, der
  Kern deiner Erotik\, deiner Leidenschaft?\n\n\n\nWahrscheinlich kennst du
  es ganz genau - dein erotisches Kernthema. Immer wieder kehrend\, in dive
 rsen Skripten und Szenerien\, mit wechselnder Besetzung und Setting\, übe
 r die Jahre vielleicht mit kleinen Abwandlungen\, mit schamvollem Zurückh
 alten oder schamlosen und ausufernden Ausleben. Manchmal vielleicht ästhe
 tisch und elaboriert Inszeniert\, als personal Kink und in sexpositiven R
 äumen kultiviert und emanzipiert\, manchmal effektiv zum Kommen\, heimlic
 h beim Sex mit Partner*innen oder für einen entspannten Schlaf schnell un
 ter der Bettdecke. Vielleicht auch als immer wiederkehrendes Thema oder Mu
 ster\, die Liebschaften oder Beziehungen verhindert\, bestimmt oder inspir
 iert\, in diese hineinführt oder auch wieder hinaus.\n\n\n\nWir begegnen 
 deiner (Kern)Fantasie\, durchforschen ihre Schichten. Du siehst selbst wo 
 es dich hinführen wird. Wir inszenieren den Stoff deiner Träume\, wir be
 fragen Darstellende und Wesen\, wir spielen mit Szenerie und Ausstattung\,
  wir übersetzen die zugrunde liegende Dynamik in Körper und Körperarbei
 t.\n\n\n\nWir spielen mit den Fantasien\, befragen sie\, versöhnen sie\, 
 dekonstruieren sie\, lassen sie lebendig werden. Dabei geben wir Möglichk
 eiten des inneren und äußeren Dialogs vor\, zugleich ist deine eigene Kr
 eativität und Forschungsfreude gefragt. Der Fantasie sind dabei keine Gre
 nzen gesetzt\, aber Vorsicht: Deinen inneren Bildern so auf den Leib gerü
 ckt kann es sein\, dass sie nicht mehr die Gleichen sein werden. Dass sie 
 sich verändern in Farbe und Form\, Verlangen und Sehnsucht. Vielleicht wi
 rd ein wildes treibendes erotisches Spiel daraus\, ein Fest der Sinne. Vie
 lleicht zeigen sich Fragen und Zweifel\, Verletzlichkeit und alte Wunden. 
 Vielleicht kreieren sich unerzählte Geschichten und neue\, unerwartete Bi
 lder und Wünsche.\n\n\n\nDieser Workshop ist für Nerds\, für Mutige\, N
 eugierige\, Forschende. Für die\, die es genau wissen wollen\, vielleicht
  auf Kosten ihrer (gewohnten) Lust\, vielleicht zum Wohle derer. Der Works
 hop kann Spuren von Kink\, BDSM und Nacktheit enthalten. Sex und Liebe nic
 ht ausgeschlossen. 4 Tage können zu Verwirrung und Erleuchtung führen. D
 er Workshop kann intensive Persönlichkeitsprozesse in Gang setzen. Es ist
  vorteilhaft\, wenn du dich in sexpositiven\, gender-diversen und Kink-Rä
 umen zu bewegen weißt\, deine Grenzen und Bedürfnisse kommunizieren kann
 st und dich mit dir und einer Gruppe auseinandersetzen willst. Zumindest s
 olltest du den guten Vorsatz dazu haben.\n\n\n\nJede*r Ausdruck ist willko
 mmen\, genauso jederzeit deine Grenzen und dein Stopp eingeladen. Die Meth
 oden sind inspiriert von Sexological Bodywork\, Aufstellungs- und Teilearb
 eit\, luzider Masturbation\, Dämonenfüttern\, Kink und BDSM und Poesie. 
 Lass uns gemeinsam tief tauchen\, in das Universum deiner verwegenen Träu
 me\, deiner grenzenlosen Sinnlichkeit und kreativen Seele.\n\n\n\nGuidance
 : Mareen Scholl &amp\; Juliette Caryl Morgan\n\n\n\nMarch 5.-8. 2026 Full 
 days\n\n\n\nPrice:\n\n\n\nRegular: 450€\n\n\n\nEarly Bird till November 
 1st: 390€\n\nMore information and registration: www.visionary-body.de 
ATTACH;FMTTYPE=image/jpeg:https://www.isbberlin.com/wp-content/uploads/202
 5/05/Flyer_letmebe_210x130_FB_text-swaufw.jpg
END:VEVENT
BEGIN:VTIMEZONE
TZID:Europe/Berlin
X-LIC-LOCATION:Europe/Berlin
BEGIN:STANDARD
DTSTART:20251026T020000
TZOFFSETFROM:+0200
TZOFFSETTO:+0100
TZNAME:CET
END:STANDARD
END:VTIMEZONE
END:VCALENDAR