BEGIN:VCALENDAR
VERSION:2.0
PRODID:-//wp-events-plugin.com//7.2.3.1//EN
TZID:Europe/Berlin
X-WR-TIMEZONE:Europe/Berlin
BEGIN:VEVENT
UID:322@isbberlin.com
DTSTART;TZID=Europe/Berlin:20261127T000000
DTEND;TZID=Europe/Berlin:20261129T000000
DTSTAMP:20260202T154541Z
URL:https://www.isbberlin.com/events/lucid-masturbation-the-truth-behind-t
 he-peak-english-language-german-translation-possible/
SUMMARY:Lucid masturbation - The truth behind the peak. ENGLISH LANGUAGE/g
 erman translation possible
DESCRIPTION:We\, Mareen and Juliette\, invite you to a weekend of being ner
 dy\, creative and maybe lustful. Converse with the protagonists of your d
 eepest fantasies\, and discover more about your true desires. What do you 
 really want in this world\, in your sex life and in your relationships?\n\
 nDer Workshop findet auf Englisch statt. Bei Bedarf kann auch in deutsch 
 übersetzt werden bzw. können sich für die Übungen deutschsprachige Gru
 ppen finden.\nThe workshop will be held in English. If necessary\, transla
 tion into German can be provided\, or German-speaking groups can be formed
  for the exercises. \n&nbsp\;\nEmbedded in a rich variety of somatic exer
 cises\, we will explore David Schnarch`s method of Lucid Masturbation for 
 2\,5 days. Yes\, we are going to masturbate together. Each day\, in differ
 ent ways. But this is just the vehicle for the deep dive into your subcons
 cious. This workshop might give you inspiration and insights about compuls
 ive behaviour in sexuality\, porn\, dating and relationships.\n&nbsp\;\nDa
 vid Schnarch began developing this method in 2020\, shortly before he died
 . There are different things you could do with lucid masturbation. We will
  enter a lucid state through embodied pleasure activation in order to enga
 ge with the images and protagonists of our fantasy. In this state we can c
 onsciously explore and even influence the storyline and its emotional impr
 int.\n&nbsp\;\nYou can make your fantasies sexier. You can change them in 
 a way that is nourishing\, empowering and inspiring. You can let go of a f
 antasy altogether. Or create a new one. You can deepen\, vary and expand y
 our fantasy. For example\, if you need to draw on specific scenarios in or
 der to be aroused\, then lucid masturbation might expand your spectrum. If
  you think you don`t have any fantasies\, this method could help you devel
 op some. Perhaps you may also better understand your mental or emotional v
 ulnerabilities and compulsions and encounter them with more agency.\n&nbsp
 \;\nWe will create a container for you to take a closer look at how you pl
 easure yourself and what brings you to peak arousal. But beware - you\, yo
 ur fantasies and the way you pleasure yourself may no longer be the same.\
 n&nbsp\;\nThis deep dive needs some clear rules to create a safe container
  for exploration: We masturbate in a group setting to support each other\,
  yet each person focuses on themselves. We will request you to turn your g
 aze inwards. You can also use a blindfold if you wish. It is not about per
 forming\, but about your own personal experience. We will connect to our o
 wn bodies\, our self-love and desire. However\, high arousal is not necess
 ary. Connecting to the images in a sensual and curious way is enough. Your
  limits are welcome. There will be some possibilities to create a more pri
 vate self-love corner or nest if you wish. Nakedness is welcome\, clothing
  also.\n&nbsp\;\nThis workshop may involve somatic exercises with duos or 
 groups\, however we will not be engaging in mutual intimacy\, erotic or ki
 nky play. We will explore and embody aspects of our fantasies (solo) but n
 ot stage and enact them. If you are interested in such explorations\, we w
 elcome you to also attend our 4-day workshop Let me be your Fantasy\, whic
 h we offer usually every year.\n&nbsp\;\n27.-29. November\nFr 18-21 Uhr\nS
 a 10-19.30\nSo 10-17\nRegular: 290€\nEarly Bird until September 27th: 2
 50€\nRegistration: Hier
ATTACH;FMTTYPE=image/jpeg:https://www.isbberlin.com/wp-content/uploads/202
 6/02/Juliusdollification-1920w.webp
END:VEVENT
BEGIN:VTIMEZONE
TZID:Europe/Berlin
X-LIC-LOCATION:Europe/Berlin
BEGIN:STANDARD
DTSTART:20261025T020000
TZOFFSETFROM:+0200
TZOFFSETTO:+0100
TZNAME:CET
END:STANDARD
END:VTIMEZONE
END:VCALENDAR