BEGIN:VCALENDAR
VERSION:2.0
PRODID:-//wp-events-plugin.com//7.2.3.1//EN
TZID:Europe/Berlin
X-WR-TIMEZONE:Europe/Berlin
BEGIN:VEVENT
UID:60@isbberlin.com
DTSTART;TZID=Europe/Berlin:20201119T183000
DTEND;TZID=Europe/Berlin:20201119T213000
DTSTAMP:20200305T214004Z
URL:https://www.isbberlin.com/events/monatliche-beherzte-forschungsgruppe-
 am-abend-fuer-vorsichtige-frauen-3/
SUMMARY:Monatliche Beherzte Forschungsgruppe am Abend für vorsichtige Frau
 en
DESCRIPTION:Im Rahmen des offenen Workshopzyklus "Sexuelle Heilung: Weib se
 in - Leib sein" mit Dipl. Psych. Annette Bertschi\nÜber die Forschungsgru
 ppe und den Zyklus:\nDieses Angebot ist für dich gedacht\, wenn du im Umg
 ang mit deinem Körper\, deinem Frausein und deiner Sexualität nicht ganz
  so leicht und unbefangen bist\, wie du es vielleicht gerne wärst\, aber 
 dennoch Lust auf Forschen und Veränderung hast. Und auch\, wenn du dich e
 infach danach sehnst\, deine Körperempfindungen zu verfeinern und deine 
 sinnlich-sexuelle Energie noch selbstverständlicher und freier fließen 
 zu lassen. Ist dir deine Lust überhaupt nicht selbstverständlich\, bere
 itet dir die Sexualität mit dir selbst oder deiner*m Partner*in Schwierig
 keiten oder gar Schmerzen? Fällt es dir schwer\, dich in eine Gruppe zu b
 egeben und dich zu zeigen? Auch\, wenn dir Begriffe wie Orgasmusschwierigk
 eiten\, Vaginismus oder Dyspareunie keine Fremdwörter sind\, bietet dir d
 ie Gruppe einen sicheren Rahmen unter Gleichgesinnten zum Austausch.\n\n\n
 Alle Workshops und Abende bieten Zeit für persönlichen Austausch\, sowei
 t du dich mitteilen möchtest. Für die somatische Arbeit gibt es immer ei
 nen anderen Schwerpunkt. Grundsätzlich werden wir einen Raum für Achtsam
 keit\, Langsamkeit und Sinnlichkeit schaffen\, der immer den gesamten Kör
 per\, vertieftes Spüren\, Entspannung und Lebendigkeit einlädt.\n\nWir 
 wenden uns der eigenen sexuellen Lerngeschichte zu\, sowie bestimmten Kö
 rperbereichen wie den Brüsten und dem Schoßraum. Uns beschäftigen Theme
 n wie Kontakt\, Grenze\, Lust\, Masturbation\, sexuelle Phantasien und W
 ünsche.  Wir werden die Wahrnehmung und Empfindungsfähigkeit schulen un
 d Fühl-\, Denk- und Verhaltensmuster beobachten\, so dass sich das emotio
 nale und körperliche Erleben Schritt für Schritt erweitern darf. Wir erl
 auben uns Sinnlichkeit\, Lebendigkeit und Erregung\, ebenso wie Unsicherhe
 iten\, Ängste und Vorbehalte. So werden wir Selbstbewusstsein und Lebensk
 raft stärken\, um sich letztlich im eigenen Körper\, der eigenen Geschle
 chtlichkeit und Vaginalität immer lustvoller zu Hause fühlen zu können.
 \n\nEin wichtiger Aspekt ist außerdem das Wahrnehmen\, Erforschen und Kom
 munizieren von Impulsen\, Grenzen und Öffnungen. Sowohl das Anerkennen vo
 n und Bestehen auf selbst gesetzte Grenzen als auch das Kommunizieren und 
 Aushandeln von gemeinsamen Begegnungen und Bewegungen bedarf eines immer w
 ieder neuen Spürens und Einübens\, bei dem wir alle voneinander lernen k
 önnen.\n\n\nIm geschützten Frauenkreis entsteht ein Rahmen\, in dem auch
  frühere schmerzhafte Erfahrungen und alte Wunden deutlicher spürbar un
 d mitgeteilt werden können. Indem wir Gefühlen wie Angst\, Scham\, Wut\
 , Schmerz und Trauer Raum geben\, sie da sein lassen und ihren Hintergrun
 d verstehen\, kann besonders durch die gleichzeitige Chance für neue beg
 lückende und lustvolle Erfahrungen mit dem eigenen Körper und im Kontak
 t mit anderen Frauen Heilung und Entfaltung geschehen.\n\nGut ist es\, den
  ganzen Zyklus zu besuchen\, um in einen Fluss neuer Erfahrungen zu komme
 n. Es ist aber auch möglich\, die Workshops oder Abendveranstaltungen ein
 zeln zu buchen. Es empfiehlt sich auch\, Workshops zu bestimmten Themen m
 ehrfach zu besuchen\, um die Erfahrungen zu vertiefen. Sexuelles (Neu-)le
 rnen braucht viel Übung!\n\n&nbsp\;\n\nAnmeldung und Information: annette
 .bertschi@gmail.com\n\n&nbsp\;\n\nAnnette Bertschi ist Diplom-Psychologin
  und Psychologische Psychotherapeutin\, ausgebildet in körperorientierter
  Psychotherapie (Core energetic)\, Gesprächstherapie\, Verhaltenstherapie
 \, Hypnotherapie und Sexualtherapie. Sie bietet Einzel-\, Paar- und Gruppe
 ntherapie und ist Dozentin und Supervisorin an der Berliner Fortbildungsak
 ademie für Psychotherapie. Ihr Engagement und ihre Leidenschaft gilt der 
 spezialisierten Arbeit für Frauen zum Thema Weiblichkeit und Sexualität.
 \n\nInformationen zu ihr und dem Seminarort findest du unter: www.kpt-mit
 te.de\n\n&nbsp\;\n\nMareen Scholl: Als Somatic Sex Educator und Sexologic
 al Bodyworkerin begleitet Mareen in Einzelarbeit und Workshops Menschen da
 rin\, die eigene Sexualität zu erforschen und bewusster in Körper\, Geis
 t und Lust zu kommen. Als Ausbilderin des Instituts für Sexological Bodyw
 ork Berlin ist ihr daran gelegen\, praktisch und bildend somatisches Lerne
 n\, Embodiment und sexuelle Kultur zu vermitteln und zu ermöglichen.\n\n&
 nbsp\;\n\nKosten:\n40-60€ pro Abend nach Selbsteinschätzung\n\n&nbsp\;\
 n\nIn 2020 finden folgende Veranstaltungen im Rahmen des Zyklus statt:\n\n
 Beherzte Forschungsgruppe am Abend für vorsichtige Frauen – Ein Austaus
 ch- und Übungsabend\, Annette Bertschi und Mareen Scholl\n13. Februar 202
 0 Do. 18.30 – 21.30\n\nKörper - Sein und Köpergeschichte(n)\, mit Anne
 tte Bertschi\nFr. 27. März 2020 18.00 – 22.00 Sa. 28.03.2020 11.00 - 19
 .00\n\nBeherzte Forschungsgruppe am Abend für vorsichtige Frauen – Ein 
 Austausch- und Übungsabend\, Annette Bertschi und Mareen Scholl\n16. Apri
 l 2020 Do. 18.30 – 21.30\n\nDie Brüste – Tor zur Lust der Frau\, mit 
 Annette Bertschi\nFr. 08. Mai 2020 18.00 – 22.00 und Sa./So 9./10.05.202
 0 11.00 – 19.00\n\nInnere Weite\, weibliche Räume\, Körperlandkarten: 
 Genital-Meditation und vulvo-vaginales Mapping\, Annette Bertschi + Mareen
  Scholl\n19. Juni 2020 Fr. 18.00 – 22.00\, 20. Juni 2020 Sa. 11.00 – 2
 0.00\, 21. Juni 2020 So. 10.00 – 19.00\n\nBerührung\, Grenzen und Wün
 sche\, mit Annette Bertschi\nFr. 4. September 2020 18.00 – 22.00\, Sa. 1
 1.00 – 19.00\n\nOrgasmic Yoga – Verkörperte Selbstliebe und kreativ-s
 innliche Masturbation\, mit Mareen Scholl und Annette Bertschi\n30. Oktobe
 r 2020 Fr. 18.00 – 22.00\, 31. Oktober 2020 Sa. 11.00 – 20.00\, 1. Nov
 ember 2020 So. 10.00 – 19.00\n\nBeherzte Forschungsgruppe am Abend für
  vorsichtige Frauen – Ein Austausch- und Übungsabend\, Annette Bertschi
  und Mareen Scholl\n19. November 2020 Do. 18.30 – 21.30\n\n&nbsp\;
ATTACH;FMTTYPE=image/jpeg:https://www.isbberlin.com/wp-content/uploads/201
 9/10/weiberwirtschaft.jpg
CATEGORIES:Workshop
LOCATION:Gemeinschaftspraxis für Körperpsychotherapie KPT Mitte\, Brunnen
 str. 181\, Berlin\, 10119\, Deutschland
X-APPLE-STRUCTURED-LOCATION;VALUE=URI;X-ADDRESS=Brunnenstr. 181\, Berlin\, 
 10119\, Deutschland;X-APPLE-RADIUS=100;X-TITLE=Gemeinschaftspraxis für K
 örperpsychotherapie KPT Mitte:geo:0,0
END:VEVENT
BEGIN:VTIMEZONE
TZID:Europe/Berlin
X-LIC-LOCATION:Europe/Berlin
BEGIN:STANDARD
DTSTART:20201025T020000
TZOFFSETFROM:+0200
TZOFFSETTO:+0100
TZNAME:CET
END:STANDARD
END:VTIMEZONE
END:VCALENDAR