BEGIN:VCALENDAR
VERSION:2.0
PRODID:-//wp-events-plugin.com//7.2.3.1//EN
TZID:Europe/Berlin
X-WR-TIMEZONE:Europe/Berlin
BEGIN:VEVENT
UID:292@isbberlin.com
DTSTART;TZID=Europe/Berlin:20251216T190000
DTEND;TZID=Europe/Berlin:20251216T210000
DTSTAMP:20251012T105848Z
URL:https://www.isbberlin.com/events/online-pascal-beaumart-professionelle
 -achtsame-11-begleitung-von-menschen-die-sexuelle-traumatisierungen-und-se
 xualisierte-gewalt-erfahren-haben-in-der-somatischen-sexologischen-koerper
 arbeit/
SUMMARY:ONLINE Pascal Beaumart: Professionelle & achtsame 1:1 Begleitung vo
 n Menschen\, die sexuelle Traumatisierungen und sexualisierte Gewalt erfah
 ren haben - in der somatischen & sexologischen Körperarbeit/ Coaching/ K
 örpertherapie
DESCRIPTION:\n\nPascal ist der Gründer der Holistic Bodywork-Ausbildung un
 d leitet das Seminarhaus Drawehn mit seiner Frau Sarah. Die ganzheitliche 
 Ausbildung vereint trauma-sensitive Körperarbeit und Körperwissen\, soma
 tische Prozessarbeit und Coaching\, körpertherapeutische Ansätze mit ein
 em Schwerpunkt auf Entwicklungstrauma und einen energetisch-spirituellen H
 orizont auf einzigartige Weise.\nSchon als Kind widmete er sich asiatische
 n Kampfsportarten und Heilmethoden\, die er Zeit seines Lebens in verschie
 denen Ländern vertiefte. Sein Interesse\, eigene Krankheit und die seines
  Vaters\, die mit dessen frühem Tod endete\, brachten ihn schon vor dem 1
 0. Lebensjahr in Kontakt mit autogenem Training\, Meditation\, Reiki und v
 erschiedenen Heiltechniken. Es folgten die Ausbildung zum Reikimeister und
  das Studium und die Arbeit mit einem philippinischen Heiler in Deutschlan
 d und auf den Philippinen. Außerdem ist er ausgebildeter Physiotherapeut 
 mit neurologisch- pädiatrischem Schwerpunkt\, sowie sportphysiotherapeuti
 scher- orthopädischer und osteopathischer Spezialisierung und Thaimassage
 lehrer. Viele Jahre lehrte er zunächst an renommierten Gesundheitseinrich
 tungen und bildete sich in der NARM-Methode fort\, bis er seine eigene Met
 hode aus seiner Praxis heraus entwickelte. \nPascals Blick auf Trauma ist
  einer Ganzheitlicher\, der alle Ebenen des Menschseins berücksichtigt. E
 in Schwerpunkt seiner somatischen Arbeit ist die Berücksichtigung des Ner
 vensystems nach der Polyvagaltheorie. Mit seinem Hintergrund in NARM (Neur
 o-Affective-Relational-Model) und Somatic Experiencing als auch energetisc
 h-spiritueller Arbeit verfügt er über ein großes Feingespür für die s
 ubtilen wie intensiven Regungen von Traumaenergie im Körper. Mit der Verb
 indung von Hands-Off und Hands-On verfügt er über ein breites Spektrum a
 n Unterstützungsmöglichkeiten für seine Klient*innen\, um sich ihren Ve
 rletzungen anzunähern und sie zurück in die Selbstwirksamkeit zu begleit
 en.\nIn dem Call wird Pascal Grundlagen seiner trauma-orientierten Arbeit 
 vorstellen und sich u.a. auf die Polyvagaltheorie und Nervensystemregulati
 on beziehen. Mit kleinen Übungen wird er Tools und Methoden anschaulich m
 achen. Mareen und Pascal werden im Gespräch u.a. erörtern\, wie Menschen
  mit sexuellem Trauma vom Halten ins Lösen unterstützt werden können\, 
 um von Schutz in die Expansion zu kommen und sich zu behaupten. Es wird um
  den Unterschied gehen\, ob Menschen Traumatisierungen in ihrer Kindheit o
 der im Jugend-/Erwachsenenalter erfahren und wie sich dies auf die Practit
 ioner*in-Klient*innen-Beziehung und Dynamiken auswirken kann. Wir fragen n
 ach den Beziehungen von Empowerment\, Selbstwirksamkeit und Heilung in der
  Begleitarbeit. Und auch\, wie sich die Arbeit unterscheidet\, je nachdem\
 , ob sie sich eher auf therapeutisches Arbeiten\, Coaching\, unterstützen
 de Beratung oder Körperarbeit als Wellness bzw. Behandlung ausrichtet.\nE
 s wird Raum für die Fragen der Teilnehmenden geben.\n--------------------
 --------------------------------------------------------------------------
 ---------------------------------------\nDie Themenreihe besteht aus einze
 ln buchbaren 2-stündigen Zoom-Calls mit Professionals verschiedener Metho
 den. Die Fachmenschen sprechen über ihre Arbeit\, Ansätze und Hintergrun
 dwissen.\nWie verstehen sie sexuelles Trauma und sexualisierte Gewalt? Wie
  kann Selbstwirksamkeit\, Verkörperung und Wiederaneignung\, vielleicht a
 uch Heilung von Verletzungen unterstützt werden? Was für Herausforderung
 en und Möglichkeiten begegnen einem in den verschiedenen Arbeitsansätzen
 ? Was unterscheidet die Arbeit mit sexuellem Trauma von anderen Traumafolg
 e-Begleitungen – und was vielleicht auch nicht? Womit gilt es\, besonder
 s achtsam zu sein\, und wo ist Mut\, Neugierde und Kreativität eingeladen
 ?\nSie stellen praktische Übungen und Tools vor und berichten\, was sie i
 n ihrem langjährigen\, praktischen Erfahrungsschatz über diese sensible 
 und wichtige Arbeit und von den Menschen\, die sie begleiten\, gelernt hab
 en. Es gibt Raum für Fragen und Austausch. Mareen wird die Calls moderier
 en und mit den Professionals in einen Fach-übergreifenden Dialog gehen. 
 \nDer Wunsch ist\, Fachbereiche und Methoden einander näher- und in Austa
 usch zu bringen. Die Kursteilnehmenden sollen neue Perspektiven\, theoreti
 schen Input und praktische Inspiration mitnehmen und sich für ihre Arbeit
  inspiriert\, ermutigt und befähigt fühlen.\nDie Kursreihe richtet sich 
 ausschließlich an Menschen\, welche professionell Klient*innen begleiten\
 , also z.Bsp. Sexological Bodyworker*innen\, somatische Coaches\, Beratend
 e oder Körpertherapeut*innen. Auch in Ausbildung befindlich. Wir wünsche
 n uns\, dass die Teilnehmenden während der Calls selbstverantwortlich auf
  sich und ihre Grenzen und Bedürfnisse achten. Es gibt keine Kapazitäten
  im Rahmen der Veranstaltung\, persönliche Prozesse aufzugreifen. Es gibt
  keinen extra Breakout-Room.\n&nbsp\;\nMit Caffyn Jesse\, Pascal Beaumart\
 , Dr. Gisela Fux Wolf\, Kristin Drotziger und Mandy Erdmann. Gehostet von 
 Mareen Scholl\n&nbsp\;\n21. Oktober: Kristin Drotziger (Sexological Bodywo
 rkerin www.freifuehlsein.com) &amp\; Mandy Erdmann (Sozialpädagogin www.w
 ildwasser-chemnitz.de)\n18. November: Caffyn Jesse\, Sexological Bodywork 
 &amp\; Sacred Intimacy www.ecstaticbelonging.com ENGLISH LANGUAGE\n16. Dez
 ember: Pascal Beaumart www.holistic-bodywork.org\n20. Januar: Dr. Gisela F
 ux Wolf www.psychotherapie-neue-kant.de/dipl-psych-dr-gisela-wolf\n&nbsp\;
 \n27. Februar-1. März 2026\nEinzeln buchbarer praktischer Workshop mit Ma
 reen in Berlin.\n&nbsp\;\n&nbsp\;\nKosten:\nEinzelner zoom-Call: 40€\nAl
 le zoom-Calls: 140€\nAlle Zoom-Calls + Workshop: Frühbuchung bis 19. Au
 gust: 490€ / regulär: 520€\nWorkshop alleine: Frühbuchung 370€ / r
 egulär 400€\n(nur möglich\, falls bis zu Jahresbeginn 2026 noch Plätz
 e frei sind. Gesamtbuchungen bekommen Vorrang.)\n&nbsp\;\nSollte Geld ein 
 Thema sein\, melde dich gerne.\n&nbsp\;\n\n\n\nInfos und Anmeldung: Bitte 
 mit Rechnungsadresse unter www.visionary-body.de / mail@mareenscholl.de\n\
 n\n\nDiese Veranstaltung wird als Weiterbildung mit 19% USt. ausgezeichnet
 .  \n\n\n\n
ATTACH;FMTTYPE=image/jpeg:https://www.isbberlin.com/wp-content/uploads/202
 5/05/6b35c234-4b44-927f-cf5b-c8b439be0b13.webp
END:VEVENT
BEGIN:VTIMEZONE
TZID:Europe/Berlin
X-LIC-LOCATION:Europe/Berlin
BEGIN:STANDARD
DTSTART:20251026T020000
TZOFFSETFROM:+0200
TZOFFSETTO:+0100
TZNAME:CET
END:STANDARD
END:VTIMEZONE
END:VCALENDAR