BEGIN:VCALENDAR
VERSION:2.0
PRODID:-//wp-events-plugin.com//7.2.3.1//EN
TZID:Europe/Berlin
X-WR-TIMEZONE:Europe/Berlin
BEGIN:VEVENT
UID:275@isbberlin.com
DTSTART;TZID=Europe/Berlin;VALUE=DATE:20260515
DTEND;TZID=Europe/Berlin;VALUE=DATE:20260518
DTSTAMP:20260203T174528Z
URL:https://www.isbberlin.com/events/pelvic-magic-bodywork-i-mit-mareen-un
 d-anima-schmitz-salue/
SUMMARY:Pelvic Work. Das Becken I  - Bewegung\, Verbindung\, Raum
DESCRIPTION:\n\n\n\n\n\n\n\n\n\n&nbsp\;\n\n&nbsp\;\n\n&nbsp\;\n\n&nbsp\;\n\
 n&nbsp\;\n\n&nbsp\;\n\n&nbsp\;\n\n&nbsp\;\n\nPelvic Work. Das Becken ist e
 ine 5-teilige Workshop/Weiterbildungsreihe. Die Arbeit mit dem Becken als 
 Teil der Gesamtkörperstruktur\, als Bezugspunkt zum Thema Sexualität\, V
 erkörperung und Gesundheit\, kann sehr vielfältig aussehen. Verschiedene
  Methoden und Ansätze haben ganz eigene Qualitäten und Nutzen\, berühre
 n unterschiedliche Ebenen. Auch sprechen verschiedene Ansätze Menschen un
 terschiedlich an\, sowohl als Practitioner*in als auch Klient*in.\n\nDiese
  Reihe stellt daher sehr unterschiedliche Möglichkeiten vor\, mit dem Bec
 ken zu arbeiten (für Professionals) bzw. mit dem Becken in Kontakt zu geh
 en (für Privatmenschen)\, um eben auf eine Vielzahl an Möglichkeiten zur
 ückgreifen zu können\, Schichten des Erlebens und Facetten eines Themas 
 zu erforschen.\n\nModul I Bewegung\, Verbindung\, Raum fokussiert sich auf
  das Entdecken konkreter Körperstrukturen und Anatomie und zugleich intui
 tivem\, individuellem\, Emotions- und Beziehungsorientiertem Forschen mit 
 somatischer\, Körper- und Begleitarbeit\, alleine und mit Unterstützung.
 \n\nModul II innerer Beziehungsraum fokussiert auf die Begleitung von emot
 ionalen Herausforderungen und Prozessen rund um Selbstliebe\, Genuss und L
 ust unter Verwendung von Teilearbeit und einfachen Aufstellungselementen i
 m Kontext somatisch-sinnlicher Selbstliebe-Exploration. Dieser Kurs beinha
 ltet einen Online-Kompaktkurs Teilearbeit mit Lukas Forstmeyer vor dem Vor
 -Ort-Kurs.\n\nModul III Struktur fokussiert Wissen\, Berührungskompetenz 
 (wie/was berühre ich\, was sagt das Gewebe\, welche Besonderheiten könne
 n mir begegnen?) und individuelles Erspüren von innerer &amp\; äußerer 
 Anatomie von Vulva/ Vulva-ähnlichen Genitalien. Es geht um Techniken der 
 Körperarbeit zur Orientierung im physischen Innen- und Außenraum und Tec
 hniken für Release/Entspannung des Beckenbodens und der Struktur der (sex
 uellen) Organe\, Bänder und Faszien\, zur Unterstützung von Wohlgefühl\
 , Gesundheit\, Genuss und Lust. Dieser Kurs beinhaltet anatomische Online-
 Teachings vor dem Vor-Ort-Kurs.\n\nModul IV Pleasure: Lust &amp\; Genuss f
 okussiert auf Empfangenden-/ Klient*innen-geleitet Pleasure-Exploration al
 s auch konkrete Lustanatomie und Aktivierung diverser Pleasure- und Hormon
 -Spots von Vulva/ Vulva-ähnlichen Genitalien in der Körperarbeit.\n\nMod
 ul V Rückverbindung &amp\; Care: Narben &amp\; Schmerzen fokussiert auf d
 en Umgang mit Schmerz-Symptomatiken von Becken und Genitalien sowie intuit
 ive\, einfache und fortgeschrittene Narbenbegleitung in der Körperarbeit.
 \n\n&nbsp\;\nPelvic Work. Das Becken I\nBewegung\, Verbindung\, Raum\nALL 
 GENDER\n\nIn diesem Kurs widmen wir uns den Strukturen\, Beweglichkeiten u
 nd Verbindungen des Beckens. Die Übungen und Körperarbeit schulen die Se
 lbstwahrnehmung und das eigene Erspüren von\n\n 	Körperhaltung und Becke
 npositionierung\n 	Körperrealitäten\n 	Strukturellen und räumlichen Ver
 bindungen\n 	Bewegungsraum\n 	Verbindungsraum\n 	Atemraum\n 	Spürraum\n 	
 Möglichkeitsraum\n\nWir erspüren diese Räume und Strukturen und setzen 
 sie zu- und miteinander in Bewegung. Neugierig erforschen wir\, wie das di
 e Wahrnehmung unserer Realität und Kontakt beeinflusst. Was ermöglicht s
 ich dadurch und was weniger? Was können wir darin neu entdecken? Wann und
  warum hilft es uns\, uns mit unserem Körper an einem klaren Alignment zu
  orientieren\, und wann und warum folgen wir lieber der freien Bewegungsfo
 rschung? In der Realität gibt es nie Stillstand\, weshalb manche Körpera
 nsätze zu kurz greifen. Wir wollen also damit experimentieren\, unser (ei
 n) Zentrum zu aktivieren\, uns Alignment anzunähern und dieses auch wiede
 r loszulassen. Wir fragen nie danach\, was ist falsch. Wir fragen immer da
 nach\, wie es ist und wie wir Möglichkeiten eröffnen. Bei der Frage\, wi
 e wir uns gut spüren können\, fokussieren wir dabei auf:\n\n 	uns selbst
 \, den Raum und andere Menschen\n 	was sich im Kontakt\, in Nähe und Dist
 anz\, in Positionierungen verändert\n\nMit Stille und achtsamer Berührun
 g\, mit Bewegung\, Atmung\, Stimme und Körperarbeit erforschen wir neugie
 rig dazu unterschiedliche Strukturen wie Muskeln\, Faszien\, Knochen und O
 rgane. Wir widmen uns unterschiedlichen Konzepten wichtiger Körperbereich
 e: den Diaphragmen\, Dan Tiens und Körperzentren. Zwischen unseren Hände
 n und in unserem Bewusstsein entsteht der Beckenraum als physisch-anatomis
 cher\, emotionaler\, energetischer und sinnlicher Ort.\n\n&nbsp\;\n\nStruk
 turen und Verbindungen die wir in Verbindung erforschen sind u.a.:\n\n 	Be
 cken und Beckenboden\n 	Kopf-Beckenverbindung\n 	Becken-Genitalverbindung\
 n 	Bauch-Rücken-Beckenverbindung\n 	Becken-Psoas-Rücken\n 	Brust/Herz/Lu
 nge/Zwerchfell-Becken\n\nWir erforschen die Qualitäten von intuitiver\, s
 pürender Berührung\, Körperarbeits- und Massagetechniken als auch angel
 eiteter Berührung durch die empfangende Person. Sowohl als Gebende als au
 ch Empfangende nehmen wir wahr\, spüren und berühren – körperlich\, e
 motional und energetisch. Daraus entsteht ein gemeinsamer Erfahrungs- und 
 Austauschraum\, über den wir kommunizieren können\, verbal und nonverbal
 . Dies soll allen Beteiligten ein Lernen und größere Bewusstheit ermögl
 ichen. Ziel ist das Erforschen und Erlernen von Möglichkeiten und Technik
 en\, die die gebende Person direkt anwenden bzw. der empfangenden Person a
 ls Forschungs- und Verbindungsraum anbieten kann. Wir lernen\, wie alle Te
 chniken entsprechend der Bedürfnisse der empfangenden Person adaptierbar 
 sind.\n\nKonsensuelle Berührung ist die Grundlage dieses Kurses und wird 
 durch bewusste Kommunikation ermutigt und geübt. Genitale Arbeit ist NICH
 T Teil des Kurses\, jedoch gehen wir auf Bezüge zu genitaler Arbeit und d
 er Arbeit rund um Sexualität\, Sinnlichkeit und Pleasure ein.\n\nZumindes
 t einfache Erfahrungen mit Körperarbeit werden vorausgesetzt. Idealerweis
 e hast du bereits Erfahrung mit Beckenarbeit. Vorausgesetzt wird auch der 
 Wunsch\, ganz konkret mit dem Becken durch Körperarbeit zu arbeiten und T
 echniken zu erlernen. Gegebenenfalls auch zu empfangen\, wobei du natürli
 ch jederzeit neu entscheiden kannst\, woran du teilnehmen möchtest und wo
 ran nicht. Es gibt immer die Möglichkeit\, bei Übungen den Raum oder ein
 zelne Sessions zu bezeugen oder Pause zu machen. Aufkommende Prozesse werd
 en von uns begleitet. Zugleich setzen wir Selbstverantwortung im Umgang mi
 t eigenen Themen voraus. Wenn du dir unsicher bist\, ob der Workshop für 
 dich geeignet ist\, kontaktiere uns gerne.\n\n&nbsp\;\nÜber die Workshop-
 Reihe\nDie Workshop-Reihe besteht aus 5 weiteren Modulen (die Daten werden
  werden noch festgelegt). Du kannst die Module einzeln\, als 3er-Paket od
 er ganze Reihe buchen.\n\n 	II innerer Beziehungsraum 2. - 4. oktober 2026
  / zoom-Calls 17. &amp\; 24. September: Teilearbeit für die somatisch-sex
 ologische Arbeit/ Erforschung von Selbstliebe\, Genuss &amp\; Lust. Mit ei
 nem Online-Kompaktkurs Teilarbeit mit Lukas Forstmeyer und Workshop mit Ma
 reen Scholl Juliette Caryl Morgan. ALL GENDER. 540/600€\n 	III Struktur 
 5.-7. März 2027 / 2 Lerncalls am 11. &amp\; 25. Februar: innere &amp\; ä
 ußere Vulva/ähnliche Anatomie\, Gewebe &amp\; Berührungsqualitäten Ori
 entierung &amp\; Release/Entspannung. Mit Mareen Scholl und Raphaela Spohn
 . 470/520€\n 	IV Pleasure 7.-9. Mai 2027: Lust &amp\; Genuss. Mit Mareen
  Scholl und Juliette Caryl Morgan. 390/450€\n 	V Rückverbindung &amp\; 
 Care 9. - 11. Juli 2027 / 2 Lerncalls im Juni/Juli: Narben &amp\; Schmerze
 n. Mit Mareen Scholl ALL GENDER. Incl. 2 zoom Calls vorab. 470/520€\n\nM
 ehr zu den einzelnen Modulen bei den einzelnen Eventbeschreibungen im Kale
 nder.\n\nDie Reihe findet in Berlin Mitte als auch im IKSK Berlin statt.\n
 \n&nbsp\;\n\n&nbsp\;\nOrt Modul I\nBerlin Mitte. Der Raum ist leider nicht
  barrierefrei.\n\n&nbsp\;\nZeiten:\nFreitag-Sonntag ganztägig.\n\nStart 1
 0 Uhr\n\nEnde: spätestens 20 Uhr\, Sonntag spätestens 18 Uhr\n\n&nbsp\;\
 nBuchung\nFrühbuchung einzeln bis 1. März 2026: 390€\nRegulär einzeln
 : 450€\n\n&nbsp\;\n\nFrühbuchung gesamt bis 1. März (-10% Preisvorteil
 ): 2030€\n\nRegulär gesamt (-10% Preisvorteil): 2280€\n\nBei einer so
 fortigen Buchung von 3 Workshops: 5% Ermäßigung auf den Early Bird bzw.
  den regulären Preis.\n\n&nbsp\;\n\nDie Module II\, III und V haben etwas
  höhere Preise\, da sie vorbereitende zoom-Calls\, Video- und/oder Textma
 terialien beinhalten. Mehr dazu und zum Gesamtpreis der Weiterbildung in d
 en jeweiligen Modulbeschreibungen im Kalender.\n\nAnmeldung\nSchreib eine 
 Email mit deiner Rechnungsadresse und knappen Infos zu deiner/euren bisher
 igen Erfahrung in Körperarbeit/Beckenforschung an: mail@mareenscholl.de.
  Du erhältst daraufhin eine Rechnung für „Weiterbildung Das Becken“ 
 inkl. 19% USt.\nLeitung\n&nbsp\;\n\nAnima Schmitz-Salue\n\nAnima hat einen
  reichen Sinnes- und Erfahrungsschatz rund um Bewegung\, Körper und Stimm
 e. Sie bringt Chinesische Medizin\, Elemente aus dem BMC (Body Mind Center
 ing)\, der BRM(Body Ready Method)\, Cantienica und freiem Tanz\, Atem und 
 Stimmlehre nach First Nature\, Thai Massage und ihre Kenntnisse als Hebamm
 e in ihre Arbeit mit ein. www.anima-schmitz-salue.com\n\n\n\n\n\n\n\n&nbsp
 \;\n\n&nbsp\;\n\n&nbsp\;\n\n\n\n\n\n\n\nMareen Scholl\n\nMareen leitet die
  Sexological Bodywork-Ausbildung Berlin und arbeitet als somatischer Coach
  für verkörperte Sexualität\, Intimität und Beziehung. Sie ist ausgebi
 ldet in verschiedenen Formen der Körperarbeit und Massage\, u.a. Integral
  Womens Pelvic Work\, Bauch- und Organmassage sowie trauma-orientierter ga
 nzheitlicher Körperarbeit und -therapie/ Holistic Bodywork. Sie ist Assoc
 iated Instructor des Universal Healing Tao und Meister-Schülerin der Heav
 enly Essence Qi Gong Lineage/ Te Yi Special Medicine. Weitere Infos zu ihr
  findest du auf dieser Seite.\n\n\n\n\n\n\n\n&nbsp\;\n\n&nbsp\;\n\n&nbsp\;
 \n\n&nbsp\;\n\n\n\n\n\n\n\n\n\n\n\n\n\n\n
ATTACH;FMTTYPE=image/jpeg:https://www.isbberlin.com/wp-content/uploads/202
 5/05/Dein-Abschnittstext-1024x1024-1.webp
CATEGORIES:Ausbildung,Workshop
END:VEVENT
BEGIN:VTIMEZONE
TZID:Europe/Berlin
X-LIC-LOCATION:Europe/Berlin
BEGIN:DAYLIGHT
DTSTART:20260329T030000
TZOFFSETFROM:+0100
TZOFFSETTO:+0200
TZNAME:CEST
END:DAYLIGHT
END:VTIMEZONE
END:VCALENDAR