BEGIN:VCALENDAR
VERSION:2.0
PRODID:-//wp-events-plugin.com//7.2.3.1//EN
TZID:Europe/Berlin
X-WR-TIMEZONE:Europe/Berlin
BEGIN:VEVENT
UID:321@isbberlin.com
DTSTART;TZID=Europe/Berlin;VALUE=DATE:20261002
DTEND;TZID=Europe/Berlin;VALUE=DATE:20261005
DTSTAMP:20260131T094702Z
URL:https://www.isbberlin.com/events/pelvic-work-das-becken-ii-innerer-bez
 iehungsraum-teilarbeit-fuer-selbstliebe-lust-genuss/
SUMMARY:Pelvic Work. Das Becken II – Innerer Beziehungsraum/ Teilarbeit f
 ür Selbstliebe\, Lust & Genuss
DESCRIPTION:\n\n\n\n\n\n\n\n\n&nbsp\;\n\n&nbsp\;\n\n&nbsp\;\n\n&nbsp\;\n\n&
 nbsp\;\n\n&nbsp\;\n\n&nbsp\;\n\nPelvic Work. Das Becken ist eine 5-teilige
  Workshop/Weiterbildungsreihe. Die Arbeit mit dem Becken als Teil der Gesa
 mtkörperstruktur\, als Bezugspunkt zum Thema Sexualität\, Verkörperung 
 und Gesundheit\, kann sehr vielfältig aussehen. Verschiedene Methoden und
  Ansätze haben ganz eigene Qualitäten und Nutzen\, berühren unterschied
 liche Ebenen. Auch sprechen verschiedene Ansätze Menschen unterschiedlich
  an\, sowohl als Practitioner*in als auch Klient*in.\n\nDiese Reihe stellt
  daher sehr unterschiedliche Möglichkeiten vor\, mit dem Becken zu arbeit
 en (für Professionals) bzw. mit dem Becken in Kontakt zu gehen (für Priv
 atmenschen)\, um eben auf eine Vielzahl an Möglichkeiten zurückgreifen z
 u können\, Schichten des Erlebens und Facetten eines Themas zu erforschen
 .\n\nModul I Bewegung\, Verbindung\, Raum fokussiert sich auf das Entdecke
 n konkreter Körperstrukturen und Anatomie und zugleich intuitivem\, indiv
 iduellem\, Emotions- und Beziehungsorientiertem Forschen mit somatischer\,
  Körper- und Begleitarbeit\, alleine und mit Unterstützung.\n\nModul II 
 innerer Beziehungsraum fokussiert auf die Begleitung von emotionalen Herau
 sforderungen und Prozessen rund um Selbstliebe\, Genuss und Lust unter Ver
 wendung von Teilearbeit und einfachen Aufstellungselementen im Kontext som
 atisch-sinnlicher Selbstliebe-Exploration. Dieser Kurs beinhaltet einen On
 line-Kompaktkurs Teilearbeit mit Lukas Forstmeyer vor dem Vor-Ort-Kurs.\n\
 nModul III Struktur fokussiert Wissen\, Berührungskompetenz (wie/was ber
 ühre ich\, was sagt das Gewebe\, welche Besonderheiten können mir begegn
 en?) und individuelles Erspüren von innerer &amp\; äußerer Anatomie von
  Vulva/ Vulva-ähnlichen Genitalien. Es geht um Techniken der Körperarbei
 t zur Orientierung im physischen Innen- und Außenraum und Techniken für 
 Release/Entspannung des Beckenbodens und der Struktur der (sexuellen) Orga
 ne\, Bänder und Faszien\, zur Unterstützung von Wohlgefühl\, Gesundheit
 \, Genuss und Lust. Dieser Kurs beinhaltet anatomische Online-Teachings vo
 r dem Vor-Ort-Kurs.\n\nModul IV Pleasure: Lust &amp\; Genuss fokussiert au
 f Empfangenden-/ Klient*innen-geleitet Pleasure-Exploration als auch konkr
 ete Lustanatomie und Aktivierung diverser Pleasure- und Hormon-Spots von V
 ulva/ Vulva-ähnlichen Genitalien in der Körperarbeit.\n\nModul V Rückve
 rbindung &amp\; Care: Narben &amp\; Schmerzen fokussiert auf den Umgang mi
 t Schmerz-Symptomatiken von Becken und Genitalien sowie intuitive\, einfac
 he und fortgeschrittene Narbenbegleitung in der Körperarbeit.\n\n&nbsp\;\
 nPelvic Work. Das Becken II\nTeilarbeit für die somatisch-sexologische Ar
 beit/ Erforschung von Selbstliebe\, Genuss &amp\; Lust\nALL GENDER\n\nDies
 er Kurs besteht aus einem Online-Kompaktkurs (somatische) Teilearbeit mit 
 Lukas Forstmeyer und einem Wochenendkurs mit Mareen Scholl und Juliette Ca
 ryl Morgan. Im Vorfeld des Workshops werden anhand schriftlicher Materiali
 en und Video-Teachings zum Selbststudium und in 2 live-Calls unter Lukas` 
 Hauptleitung den Teilnehmenden Grundlagen und Vertiefungen der Teilearbeit
  vermittelt.\n\nDie Live-Calls finden statt am 17. und 24. September von 
 18.30 - 20.30 Uhr. Die Onlinematerialien sind bereits vorab zugänglich\, 
 um sich auf die Calls vorzubereiten.\n\nDarauf folgt ein 3-tägiger Worksh
 op\, in dem die Teilearbeit in den Kontext somatischer\, sexologischer und
  therapeutischer Arbeit/ Forschung eingebettet werden. Als Hauptfokus wird
  mit Themen rund um Selbstliebe (Solo Sex als auch Selbstannahme)\, Genuss
  und Lust gearbeitet werden\, da diese in der persönlichen Reise zu Verk
 örperung und Selbstliebe oft grundlegende Stolpersteine sind und in der p
 rofessionellen 1:1-Begleitung häufig vorkommen. Meist sind diese Themen d
 ie Basis für jede weitere Arbeit.\n\nIm Fokus steht nicht die Selbstliebe
 forschung selbst\, sondern detaillierte Prozesse\, welche dabei aufkommen.
  Dieser Kurs bietet Möglichkeiten im Umgang mit aufkommenden emotionalen 
 Prozessen\, wenn Mensch sich dem eigenen Körper\, Lust und Genuss zuwende
 t. Oft stehen Themen der Selbstannahme\, Scham\, Bewertung\, Angst oder Wu
 t einer Selbstliebepraxis gleich zu Beginn im Wege oder tauchen im Prozess
  auf. Schützende\, jedoch heute nicht mehr hilfreiche Teile hindern den M
 enschen daran\, den eigenen Körper zu bewohnen\, Genuss als heilsamen und
  stärkenden Zustand des Nervensystems zu leben oder Lust und Erregung in 
 der Sexualität\, den Genitalien und dem Beckenraum zuzulassen.\n\nWähren
 d des Workshops üben wir die Teilearbeit im Rahmen somatischer und verba
 ler Forschungs- und Begleitsettings. Wir widmen uns auch der Frage\, wann 
 es sinnvoll ist\, Anteilen in Form von klassischer Telearbeit zu begegnen 
 oder wann und wie es möglich oder besser ist\, die Teile somatisch zu zu 
 prozessieren. Wie kann in einer Session somatische Arbeit/Körperarbeit an
  die Teilearbeit anschließen oder sogar Hand in Hand gehen? Wie können 
 auch einfache Elemente der Aufstellungsarbeit mit integriert und verräuml
 icht werden?\n\nEs wird außerdem Austausch darüber geben\, wie andere Th
 emen der Sexualität und Intimität\, zu Genuss\, Lust\, Erregung und Orga
 smus in der somatisch-sexologischen Arbeit mit Teilearbeit aufgegriffe
 n werden können. Anhand exemplarischer Prozesse kann dies verdeutlicht un
 d diskutiert werden.\n\nDie einzelnen Übungssettings können je nach Pers
 on und Thema sehr variieren. Die Übenden entscheiden selbst miteinander\,
  wie und mit welchem Thema sie in die somatische Forschung gehen wollen. D
 ie meisten Übungen finden bekleidet statt. Nacktheit und lustvolles Forsc
 hen ist je nach Setting aber auch eingeladen.\n\nFür wen ist dieser Kurs?
 \n\n\nDer Kurs richtet sich vor allem an Professionals\, welche Menschen i
 n Einzelsessions begleiten. Er ist aber auch offen für Privatmenschen\, w
 elche sich gegenseitig in ihrem persönlichen Forschen begleiten wollen. D
 ie Techniken zur Teilearbeit lassen sich außerdem in der eigenen Selbsten
 twicklung anwenden.\n\nPrivatmenschen sind eingeladen als vertrautes Duo o
 der Paar. Für diese ist es möglich\, die Übungen auch mit anderen\, wec
 hselnden Teilnehmenden zu machen. Dies wird aber nicht garantiert und ist 
 abhängig von der Offenheit der anderen.\n\n\n\n&nbsp\;\nÜber die Worksho
 p-Reihe\nDie Workshop-Reihe besteht aus 5 weiteren Modulen. Du kannst die 
 Module einzeln\, als 3er-Paket oder ganze Reihe buchen.\n\nI Bewegung\, Ve
 rbindung\, Raum 15. - 17. Mai 2026: Körperstrukturen &amp\; Anatomie als 
 verkörpertes Wissen und intuitive Spürräume. Emotions- und Beziehungsor
 ientiertes Forschen mit somatischer\, Körper- und Begleitarbeit\, alleine
  und mit Unterstützung. ALL GENDER. 390/450€\n\nII innerer Beziehungsra
 um 2. - 4. Oktober / zoom-Calls 17. &amp\; 24. September 2026: Teilearbei
 t für die somatisch-sexologische Arbeit/ Erforschung von Selbstliebe\, Ge
 nuss &amp\; Lust. Mit einem Online-Kompaktkurs Teilarbeit mit Lukas Forstm
 eyer und Workshop mit Mareen Scholl Juliette Caryl Morgan. ALL GENDER. Inc
 l. 2 zoom Calls plus Materialien zum Selbststudium vorab. 540/600€\n\nII
 I Struktur 5.-7. März 2027 / 2 Lerncalls am 11. &amp\; 25. Februar: inner
 e &amp\; äußere Vulva/ähnliche Anatomie\, Gewebe &amp\; Berührungsqual
 itäten Orientierung &amp\; Release/Entspannung. Mit Mareen Scholl und Rap
 haela Spohn. 470/520€\n\nIV Pleasure 7.-9. Mai 2027: Lust &amp\; Genuss.
  Mit Mareen Scholl und Juliette Caryl Morgan. 390/450€\n\nV Rückverbind
 ung &amp\; Care 9. - 11. Juli 2027 / 2 Lerncalls im Juni/Juli: Narben &amp
 \; Schmerzen. Mit Mareen Scholl ALL GENDER. Incl. 2 zoom Calls vorab. 470/
 520€\n\n\n\nMehr zu den einzelnen Modulen bei den einzelnen Eventbeschre
 ibungen im Kalender.\n\nDie Reihe findet in Berlin Mitte als auch im IKSK 
 Berlin statt.\n\n\n&nbsp\;\nOrt Modul II\nonline und IKSK Berlin.\n\n&nbsp
 \;\nZeiten:\nFreitag-Sonntag ganztägig.\n\nStart 10 Uhr\n\nEnde: spätest
 ens 20 Uhr\, Sonntag spätestens 18 Uhr\n\n&nbsp\;\nKosten Modul II\nFrüh
 buchung einzeln bis 1. August 2026: 540€\nRegulär einzeln: 600€\n\nFr
 ühbuchung gesamt bis 1. März (-10% Preisvorteil): 2030€\n\nRegulär ge
 samt bis zum Start (-10% Preisvorteil): 2280€\n\nBei einer sofortigen Bu
 chung von 3 Workshops: 5% Ermäßigung auf den Early Bird bzw. den regul
 ären Preis.\n\n&nbsp\;\n\nDie Module II\, III und V haben etwas höhere P
 reise\, da sie vorbereitende zoom-Calls\, Video- und/oder Textmaterialien 
 beinhalten. Mehr dazu und zum Gesamtpreis der Weiterbildung in den jeweili
 gen Modulbeschreibungen im Kalender.\n\n&nbsp\;\nAnmeldung\nSchreib eine E
 mail mit deiner Rechnungsadresse und knappen Infos zu deiner/euren bisheri
 gen Erfahrung in Körperarbeit/Beckenforschung an: mail@mareenscholl.de. 
 Du erhältst daraufhin eine Rechnung für „Weiterbildung Das Becken“ i
 nkl. 19% USt.\n\n&nbsp\;\nLeitung\nLukas Forstmeyer\n\nLukas beschäftige 
 sich seit über 15 Jahren mit einer Frage: Wie funktioniert der Mensch –
  in Beziehung\, im Körper\, im Denken? Er hat Philosophie und Psychologie
  studiert und arbeite an der Schnittstelle von Neurobiologie\, Bindungsfor
 schung und Systemtheorie. Ihn interessiert\, wie unsere innere Welt – Ne
 rvensystem\, Emotionen\, Glaubenssätze – unbewusst jede Beziehung formt
 . Und wie wir lernen können\, das ein kleines bisschen bewusster zu gesta
 lten. Lukas ist kein klassischer Therapeut. Er ist ein Lernarchitekt (Educ
 ational Designer) – Er entwirft Lernräume\, in denen Menschen sich selb
 st und ihre Beziehungen verstehen lernen. Seit über einem Jahrzehnt leite
 t er Ausbildungen und Gruppen in den Bereichen Teilearbeit\, Trauma-sensit
 ive Körperarbeit und Beziehungsentwicklung.\n\nwww.lucasforstmeyer.com\n\
 n&nbsp\;\n\nJuliette Caryl Morgan\n\nJuliette Caryl Morgan widmet sich in 
 ihrer Arbeit Kinky Inszenierungen\, somatischem Sexualcoaching und Interac
 tive Erotic Education. Sie hat eine Leidenschaft für Tanz und Improvisati
 on und\nerforscht gerne die transformative Kraft von somatischen Prozessen
 \, insbesondere durch\nContact Improvisation und Ritual Play.\n\nAls Works
 hop-Leiterin liegt ihr Fokus derzeit auf der spielerischen Umsetzung\, exp
 erimentellen\nDekonstruktion und dem neugierigen Hinterfragen von Fantasie
 n und sexuellen Gewohnheiten.\nEin weiterer Schwerpunkt ist die Erweiterun
 g der Möglichkeiten für sinnlichen Genuss durch verkörperte Selbstliebe
  und Luzide Masturbation. Seit 2019 arbeitet sie als Lehrende für das ISB
  Berlin\n(Institut für Somatische Bildung\, Sexualität und Körperarbeit
  Berlin) im Rahmen der\nprofessionellen Ausbildung in Sexological Bodywork
 .\n\nIn ihrer Praxis für Körperarbeit und somatisches Coaching arbeitet 
 sie mit\nInteractive Erotic Education\, Sexological Bodywork\, Kink &amp\;
  BDSM-Coaching\, Tao &amp\; Tantra\nsowie Bauch- &amp\; Beckenbodenmassage
 . Mit mehr als 30 Jahren Erfahrung in\nKörperarbeit und Coaching hat sie 
 zudem viele eigene kreative Methoden entwickelt\, mit\ndenen sie Menschen 
 bei Herausforderungen in der Sexualität sowie der Entfaltung ihres\nPoten
 tials für Lust und Genuss unterstützt.\n\nwww.juliette-c-morgan.com\n\n&
 nbsp\;\n\n\n\n\n\n\n\n&nbsp\;\n\n&nbsp\;\n\n\n\n\n\n\n\nMareen Scholl\n\nM
 areen leitet die Sexological Bodywork-Ausbildung Berlin und arbeitet als s
 omatischer Coach für verkörperte Sexualität\, Intimität und Beziehung.
  Sie ist ausgebildet in verschiedenen Formen der Körperarbeit und Massage
 \, u.a. Integral Womens Pelvic Work\, Bauch- und Organmassage sowie trauma
 -orientierter ganzheitlicher Körperarbeit und -therapie/ Holistic Bodywor
 k. Sie ist Associated Instructor des Universal Healing Tao und Meister-Sch
 ülerin der Heavenly Essence Qi Gong Lineage/ Te Yi Special Medicine. Weit
 ere Infos zu ihr findest du auf dieser Seite.\n\n\n\n\n\n\n\n&nbsp\;\n\n&n
 bsp\;\n\n&nbsp\;\n\n&nbsp\;\n\n\n\n\n\n\n\n\n\n\n\n\n\n\n
ATTACH;FMTTYPE=image/jpeg:https://www.isbberlin.com/wp-content/uploads/202
 6/01/Dein-Abschnittstext-Instagram-Post-45.png.webp
CATEGORIES:Ausbildung,Workshop
END:VEVENT
BEGIN:VTIMEZONE
TZID:Europe/Berlin
X-LIC-LOCATION:Europe/Berlin
BEGIN:DAYLIGHT
DTSTART:20260329T030000
TZOFFSETFROM:+0100
TZOFFSETTO:+0200
TZNAME:CEST
END:DAYLIGHT
END:VTIMEZONE
END:VCALENDAR