BEGIN:VCALENDAR
VERSION:2.0
PRODID:-//wp-events-plugin.com//7.2.3.1//EN
TZID:Europe/Berlin
X-WR-TIMEZONE:Europe/Berlin
BEGIN:VEVENT
UID:327@isbberlin.com
DTSTART;TZID=Europe/Berlin:20270305T000000
DTEND;TZID=Europe/Berlin:20270307T000000
DTSTAMP:20260322T194819Z
URL:https://www.isbberlin.com/events/pelvic-work-das-becken-iii-struktur-o
 rientierung-entspannung/
SUMMARY:Pelvic Work. Das Becken III - Struktur: Orientierung & Entspannung
DESCRIPTION:  \n\n&nbsp\;\n\nPelvic Work. Das Becken ist eine 5-teilige Wo
 rkshop/Weiterbildungsreihe. Die Arbeit mit dem Becken als Teil der Gesamtk
 örperstruktur\, als Bezugspunkt zum Thema Sexualität\, Verkörperung und
  Gesundheit\, kann sehr vielfältig aussehen. Verschiedene Methoden und An
 sätze haben ganz eigene Qualitäten und Nutzen\, berühren unterschiedlic
 he Ebenen. Auch sprechen verschiedene Ansätze Menschen unterschiedlich an
 \, sowohl als Practitioner*in als auch Klient*in.\n\nDiese Reihe stellt da
 her sehr unterschiedliche Möglichkeiten vor\, mit dem Becken zu arbeiten 
 (für Professionals) bzw. mit dem Becken in Kontakt zu gehen (für Privatm
 enschen)\, um eben auf eine Vielzahl an Möglichkeiten zurückgreifen zu k
 önnen\, Schichten des Erlebens und Facetten eines Themas zu erforschen.\n
 \nModul I Bewegung\, Verbindung\, Raum fokussiert sich auf das Entdecken k
 onkreter Körperstrukturen und Anatomie und zugleich intuitivem\, individu
 ellem\, Emotions- und Beziehungsorientiertem Forschen mit somatischer\, K
 örper- und Begleitarbeit\, alleine und mit Unterstützung.\n\nModul II in
 nerer Beziehungsraum fokussiert auf die Begleitung von emotionalen Herausf
 orderungen und Prozessen rund um Selbstliebe\, Genuss und Lust unter Verwe
 ndung von Teilearbeit und einfachen Aufstellungselementen im Kontext somat
 isch-sinnlicher Selbstliebe-Exploration. Dieser Kurs beinhaltet einen Onli
 ne-Kompaktkurs Teilearbeit mit Lukas Forstmeyer vor dem Vor-Ort-Kurs.\n\nM
 odul III Struktur fokussiert Wissen\, Berührungskompetenz (wie/was berüh
 re ich\, was sagt das Gewebe\, welche Besonderheiten können mir begegnen?
 ) und individuelles Erspüren von innerer &amp\; äußerer Anatomie von Vu
 lva/ Vulva-ähnlichen Genitalien. Es geht um Techniken der Körperarbeit z
 ur Orientierung im physischen Innen- und Außenraum und Techniken für Rel
 ease/Entspannung des Beckenbodens und der Struktur der (sexuellen) Organe\
 , Bänder und Faszien\, zur Unterstützung von Wohlgefühl\, Gesundheit\, 
 Genuss und Lust. Dieser Kurs beinhaltet anatomische Online-Teachings vor d
 em Vor-Ort-Kurs.\n\nModul IV Pleasure: Lust &amp\; Genuss fokussiert auf E
 mpfangenden-/ Klient*innen-geleitet Pleasure-Exploration als auch konkrete
  Lustanatomie und Aktivierung diverser Pleasure- und Hormon-Spots von Vulv
 a/ Vulva-ähnlichen Genitalien in der Körperarbeit.\n\nModul V Rückverbi
 ndung &amp\; Care: Narben &amp\; Schmerzen fokussiert auf den Umgang mit S
 chmerz-Symptomatiken von Becken und Genitalien sowie intuitive\, einfache 
 und fortgeschrittene Narbenbegleitung in der Körperarbeit.\n\n&nbsp\;\nPe
 lvic Work. Das Becken III\nStruktur: Orientierung &amp\; Entspannung\nfür
  Menschen mit vulvo-vaginalen* Strukturen\n\nDieser Kurs besteht aus 2 zoo
 m-Teachingcalls zum Thema strukturelle Anatomie und einem Wochenendkurs mi
 t Mareen Scholl und Raphaela Spohn. Im Vorfeld des Workshops werden anhand
  der zoom-Teachings und entsprechender Materialien den Teilnehmenden die w
 ichtigsten anatomischen Grundlagen vermittelt\, die wir im Vor-Ort-Modul v
 ertiefen werden.\n\nDie Live-Calls finden statt am 11. und 25. Februar 202
 7 von 18.30 - 20.30 Uhr. Die Calls werden aufgezeichnet.\n\nDas darauf fol
 gende Vor-Ort-Modul fokussiert auf anatomisches Wissen und Spüren\, Berü
 hrungskompetenz (wie/was berühre ich\, was sagt das Gewebe\, welche Beson
 derheiten können mir begegnen?) und individuelles Erspüren von innerer &
 amp\; äußerer Anatomie von Vulva/ Vulva-ähnlichen Genitalien.\n\nVermit
 telt werden Techniken der Körperarbeit zur Orientierung im physischen Inn
 en- und Außenraum und Techniken für Release/Entspannung des Beckenbodens
  und der Struktur der (sexuellen) Organe\, Bänder und Faszien\, zur Unter
 stützung von Wohlgefühl\, Gesundheit\, Genuss und Lust. Die Techniken st
 ammen aus dem Sexological Bodywork\, der Physiotherapie und verschiedenen 
 Feldern der manuellen Therapie.\n\nAuch wenn wir gezielt damit arbeiten\, 
 Gewebsstrukturen zu erkennen\, einzuschätzen und zu manipulieren\, laden 
 wir immer sowohl das intuitive Spüren der empfangenden Person als auch de
 r gebenden Person ein\, um unsere Wahrnehmung zu erweitern\, eigene somati
 sche Weisheit einzuladen und Kommunikation und gemeinsames\, selbst-bestim
 mtes Forschen zu ermöglichen.\n\nDie Orientierung im Innen- und Außenrau
 m als auch die gezielte Gewebsmanipulation bzw. -Erforschung kann Menschen
  unterstützen\, ihren Becken- und Genitalraum besser wahrzunehmen und zu 
 bewohnen\, die Spürfähigkeit zu erweitern\, strukturelle Zusammenhänge 
 zu erfahren\, das Spüren von Sinnlichkeit und Erregung zu fördern\, Schm
 erzen zu lindern und Entspannung zu erwirken. Diese Arbeit kann eine rein 
 strukturelle Ebene oder auch eine emotionale Ebene ansprechen und begleite
 n.\n\nFür wen ist dieser Kurs?\n\n\nDer Kurs richtet sich vor allem an Pr
 ofessionals\, welche Menschen in Einzelsessions begleiten. Er ist aber auc
 h offen für Privatmenschen\, welche sich gegenseitig in ihrem persönlich
 en Forschen begleiten wollen.\n\nPrivatmenschen sind eingeladen als vertra
 utes Duo oder Paar. Für diese ist es möglich\, die Übungen auch mit and
 eren\, wechselnden Teilnehmenden zu machen. Dies wird aber nicht garantier
 t und ist abhängig von der Offenheit der anderen.\n\nEingeladen sind cis-
 Frauen\, AFAB nicht-binäre Menschen als auch trans-Männer\, welche Lust 
 haben\, mit ihrer konkreten Gewebsstruktur zu arbeiten. Das Einbeziehen de
 r individuellen Spüranatomie und der eigenen Bedeutungssetzung ist jederz
 eit willkommen.\n\n\n\n&nbsp\;\nÜber die Workshop-Reihe\nDie Workshop-Rei
 he besteht aus 5 weiteren Modulen. Du kannst die Module einzeln\, als 3er-
 Paket oder ganze Reihe buchen.\n\nI Bewegung\, Verbindung\, Raum 15. - 17.
  Mai 2026: Körperstrukturen &amp\; Anatomie als verkörpertes Wissen und 
 intuitive Spürräume. Emotions- und Beziehungsorientiertes Forschen mit s
 omatischer\, Körper- und Begleitarbeit\, alleine und mit Unterstützung. 
 ALL GENDER. 390/450€\n\nII innerer Beziehungsraum 2. - 4. Oktober / zoom
 -Calls 17. &amp\; 24. September 2026: Teilearbeit für die somatisch-sexo
 logische Arbeit/ Erforschung von Selbstliebe\, Genuss &amp\; Lust. Mit ein
 em Online-Kompaktkurs Teilarbeit mit Lukas Forstmeyer und Workshop mit Mar
 een Scholl Juliette Caryl Morgan. ALL GENDER. Incl. 2 zoom Calls plus Mate
 rialien zum Selbststudium vorab. 540/600€\n\nIII Struktur 5.-7. März 20
 27 / 2 Lerncalls am 11. &amp\; 25. Februar: innere &amp\; äußere Vulva/
 ähnliche Anatomie\, Gewebe &amp\; Berührungsqualitäten Orientierung &am
 p\; Release/Entspannung. Mit Mareen Scholl und Raphaela Spohn. 470/520€\
 n\nIV Pleasure 7.-9. Mai 2027: Lust &amp\; Genuss. Mit Mareen Scholl und J
 uliette Caryl Morgan. 390/450€\n\nV Rückverbindung &amp\; Care 9. - 11.
  Juli 2027 / 2 Lerncalls im Juni/Juli: Narben &amp\; Schmerzen. Mit Mareen
  Scholl. Incl. 2 zoom Calls vorab. 470/520€\n\n\n\nMehr zu den einzelnen
  Modulen bei den einzelnen Eventbeschreibungen im Kalender.\n\nDie Reihe f
 indet in Berlin Mitte als auch im IKSK Berlin statt.\n\n\n&nbsp\;\nOrt Mod
 ul III\nBerlin Mitte\n\n&nbsp\;\nZeiten:\nFreitag-Sonntag ganztägig.\n\nS
 tart 10 Uhr\n\nEnde: spätestens 20 Uhr\, Sonntag spätestens 18 Uhr\n\n&n
 bsp\;\nKosten Modul III\nFrühbuchung einzeln bis 1. August 2026: 470€\n
 Regulär einzeln: 520€\n\nFrühbuchung gesamt bis 1. März (-10% Preisvo
 rteil): 2030€\n\nRegulär gesamt bis zum Start (-10% Preisvorteil): 2280
 €\n\nBei einer sofortigen Buchung von 3 Workshops: 5% Ermäßigung auf 
 den Early Bird bzw. den regulären Preis.\n\n&nbsp\;\n\nDie Module II\, II
 I und V haben etwas höhere Preise\, da sie vorbereitende zoom-Calls\, Vid
 eo- und/oder Textmaterialien beinhalten. Mehr dazu und zum Gesamtpreis der
  Weiterbildung in den jeweiligen Modulbeschreibungen im Kalender.\n\n&nbsp
 \;\nAnmeldung\nSchreib eine Email mit deiner Rechnungsadresse und knappen 
 Infos zu deiner/euren bisherigen Erfahrung in Körperarbeit/Beckenforschun
 g an: mail@mareenscholl.de. Du erhältst daraufhin eine Rechnung für „
 Weiterbildung Das Becken“ inkl. 19% USt.\n\n&nbsp\;\nLeitung\n\n\nRaphae
 la Spohn sie/ ihr\n\n\nBeckenbodentherapeutin\, Physiotherapeutin (B.Sc.)\
 , Mitglied der AG GGUP\, Heilpraktikerin\, trauma-sensible Yogalehrerin un
 d Bodyworkerin\n\nBeckengesundheit geht uns alle an - und neben einem Lust
 vollen Becken - was es zu entdecken gibt - gibt es noch vieles mehr im Bec
 ken zu entdecken.\n\nStrukturorientiert\, aus dem Praxisalltag\, mit wisse
 nschaftlichen Background und mit dem Fokus einen offenen\, (trauma-) sensi
 blen und wertschätzenden Lernraum und Therapieraum für meine Patient*inn
 en sowie Teilnehmer*innen in Kursen zu schaffen vermittle ich praxisnahes 
 Wissen rund um das Thema Beckengesundheit.\n\nNeben der Anatomie und Funkt
 ion steht das praktische Umsetzen und die Frage\, was kann jede*r selbst u
 nd wirksam für die eigene Beckengesundheit tun im Mittelpunkt.\n\nIn mein
 er Arbeit begleite ich Frauen\, Männer sowie TiN*Personen rund um die The
 men Kontinenz der Blase &amp\; des Darms\, rund um Schwangerschaft und Geb
 urt\, vor-\, in und nach der Menopause\, nach Verletzungen/OPs im genitale
 n Bereich\, mit chronischen Schmerzsymptomen und Sexualität.\n\nIm Becken
 (Boden) können sich die alltägliche Bedürfnisse und Funktionen mit den 
 großen Fragen des Selbstwertes\, der Identität\, des sexuellen Ausdrucks
  und Entfaltung treffen - so dass Begleitung hier ganz natürlich ganzheit
 lich ist.\n\nStark geprägt ist mein Ansatz aus den Traditionen der Yogatr
 adition\, ThaiYogamassage\, Osteopathie\, Feldenkrais und der evidenzbasie
 rten Physiotherapie sowie Trainingslehre.\n\nTrauma-sensibles Arbeiten\, d
 ie Arbeit mit und für ein reguliertes Nervensystem\, Kommunikation und di
 e ganzheitliche Betrachtung des Menschens mit dem tiefen Bedürfnis nach V
 erbindung\, Beziehung\, Austausch\, Kommunikation und Kontakt stehen immer
  wieder im Mittelpunkt meiner Behandlungen und Kurse. Ein Verständnis und
  Erleben für den eigenen Körper zu finden und einen Zugang zu diesem üb
 er Bewegung\, (Selbst-)Berührung und (Selbst-)Beziehung sind die Eckpfeil
 er meines Ansatzes.\n\nElemente aus dem Clean-Language\, dem Somatic Exper
 iencing\, dem Motivation Interviewung und der nervensystemorientierten Arb
 eit fließen mit ein.\n\nTätig bin ich in meiner Selbstzahler-Praxis in H
 amburg und Elmshorn\, sowie Süddeutschland. Für Kurs- und Ausbildungsset
 tings bin ich Deutschlandweit unterwegs.  www.move-bemoved.com\n\n\n&nbsp
 \;\n\n\n\nMareen Scholl\n\nMehr zu Mareen auf: www.visionary-body.de
END:VEVENT
BEGIN:VTIMEZONE
TZID:Europe/Berlin
X-LIC-LOCATION:Europe/Berlin
BEGIN:STANDARD
DTSTART:20261025T020000
TZOFFSETFROM:+0200
TZOFFSETTO:+0100
TZNAME:CET
END:STANDARD
END:VTIMEZONE
END:VCALENDAR