BEGIN:VCALENDAR
VERSION:2.0
PRODID:-//wp-events-plugin.com//7.2.3.1//EN
TZID:Europe/Berlin
X-WR-TIMEZONE:Europe/Berlin
BEGIN:VEVENT
UID:270@isbberlin.com
DTSTART;TZID=Europe/Berlin:20251021T190000
DTEND;TZID=Europe/Berlin:20251021T210000
DTSTAMP:20250819T115339Z
URL:https://www.isbberlin.com/events/professionelle-achtsame-begleitung-vo
 n-menschen-mit-sexualisierter-gewalterfahrung-in-der-somatischen-sexologis
 chen-koerperarbeit-coaching-koerpertherapie/
SUMMARY:Online mit Mandy Erdmann (Wildwasser Chemnitz e.V.) & Kristin Drotz
 iger (freifühlsein): Professionelle & Achtsame 1:1 Begleitung von Mensche
 n\, die sexuelle Traumatisierungen & Gewalt erfahren haben - in der Somati
 schen & Sexologischen Körperarbeit/ Coaching/ Körpertherapie
DESCRIPTION:\nMandy Erdmann und Kristin Drotziger: Einblicke in die körpe
 rnahe Arbeit und Körperarbeit mit Personen\, die sexuelle Traumatisierung
 en erfahren haben. Potenziale in der Zusammenarbeit von öffentlichen Ins
 titutionen und somatischen Practitioner*innen/ Sexological Bodyworker*inne
 n\n&nbsp\;\nMandy Erdmann und Kristin Drotziger arbeiten und leben beide i
 n Chemnitz. Sie schätzen die Arbeit der anderen und haben bereits im Rahm
 en von Gruppenangeboten bei Wildwasser e.V. kooperiert. Sie sprechen über
  die Möglichkeiten und Qualitäten von Beratung hin zu unterstützenden k
 örperorientierten bzw. somatischen Ansätzen. Was sind die Potenziale in 
 der Zusammenarbeit von öffentlichen Institutionen und Hilfsangeboten und 
 somatischen Practitioner*innen?\nMandy Erdmann gibt einen Überblick zu Gr
 undlagen\, Formen\, Auswirkungen und Interventionen zur Problematik\; zu M
 öglichkeiten und Grenzen in der Beratung.\nKristin Drotziger wird sich da
 rauf fokussieren\, einen Einblick in die Erfahrungen mit körpernaher Begl
 eitung und Körperarbeit bei Menschen mit Traumatisierungen zu geben. Was 
 für ein Entwicklungsraum kann da entstehen\, was macht diese Arbeit aus? 
 Wie kreieren Practitioner*innen und Klien*innen gemeinsam ein Setting\, da
 s stimmig und wertvoll ist? Was ist ihr eigenes Lernen in dieser Arbeit un
 d wo sieht sie Grenzen? Der professionelle Einblick wird ergänzt durch ih
 re persönliche Reflexion der eigenen Entwicklung mit verschiedensten Form
 en der Körperarbeit\, u.a. Sexological Bodywork. Außerdem kann sie mit d
 em Hintergrund eigener Erfahrungen zu sexueller Traumatisierung von ihrer 
 Entwicklungsreise mit Sexological Bodywork und körperorientierten Ansätz
 en berichten.\nErgänzt wird der Input durch einen interprofessionellen Di
 alog zwischen Mareen\, Kristin und Mandy überPerspektiven\, Zugänge und 
 Erfahrungen in ihrer jeweiligen Arbeit. Wie kann eine Zusammenarbeit anger
 egt und gestaltet werden? Es wird Raum geben für Fragen und Beiträge der
  Teilnehmenden.\n\n\n&nbsp\;\nKristin Drotziger _ Freifühlsein \nKörper
 nahe Begleitung und Körperarbeit (Schwerpunkt: Sexological Bodywork\, Tra
 umasensibles Yoga) in eigener Praxis\, in Einzelbegleitung &amp\; Workshop
 s.\nKristin verfügt über 25 Jahre Berufserfahrung als Krankenschwester i
 n Psychiatrie und Psychosomatik\; arbeitet dort seit Jahren in somatischer
  Gruppenbegleitung und tiergestützter Therapie. Sie bietet seit 2 Jahren 
 somatische Gruppenangebote auch im Gefängnis an.\nwww.freifuehlsein.com\n
 &nbsp\;\n&nbsp\;\n\n&nbsp\;\nMandy Erdmann vom Wildwasser e.V. – Verein 
 gegen sexualisierte Gewalt \nMandy arbeitet seit 25 Jahren zu den Schwerp
 unkten Prävention – vor allem von jungen Menschen\, in der Beratung von
  Betroffenen sexualisierter Gewalt jeden Alters und gibt Weiterbildungen f
 ür Fachpersonal.\nwww.wildwasser-chemnitz.de\n&nbsp\;\n&nbsp\;\n&nbsp\;\n
 Die Themenreihe besteht aus einzeln buchbaren 2-stündigen Zoom-Calls mit 
 Professionals verschiedener Methoden. Die Fachmenschen sprechen über ihre
  Arbeit\, Ansätze und Hintergrundwissen.\nWie verstehen sie sexuelles Tra
 uma und sexualisierte Gewalt? Wie kann Selbstwirksamkeit\, Verkörperung u
 nd Wiederaneignung\, vielleicht auch Heilung von Verletzungen unterstützt
  werden? Was für Herausforderungen und Möglichkeiten begegnen einem in d
 en verschiedenen Arbeitsansätzen? Was unterscheidet die Arbeit mit sexuel
 lem Trauma von anderen Traumafolge-Begleitungen – und was vielleicht auc
 h nicht? Womit gilt es\, besonders achtsam zu sein\, und wo ist Mut\, Neug
 ierde und Kreativität eingeladen?\nSie stellen praktische Übungen und To
 ols vor und berichten\, was sie in ihrem langjährigen\, praktischen Erfah
 rungsschatz über diese sensible und wichtige Arbeit und von den Menschen\
 , die sie begleiten\, gelernt haben. Es gibt Raum für Fragen und Austausc
 h. Mareen wird die Calls moderieren und mit den Professionals in einen Fac
 h-übergreifenden Dialog gehen. \nDer Wunsch ist\, Fachbereiche und Metho
 den einander näher- und in Austausch zu bringen. Die Kursteilnehmenden so
 llen neue Perspektiven\, theoretischen Input und praktische Inspiration mi
 tnehmen und sich für ihre Arbeit inspiriert\, ermutigt und befähigt füh
 len.\nDie Kursreihe richtet sich ausschließlich an Menschen\, welche prof
 essionell Klient*innen begleiten\, also z.Bsp. Sexological Bodyworker*inne
 n\, somatische Coaches\, Beratende oder Körpertherapeut*innen. Auch in Au
 sbildung befindlich. Wir wünschen uns\, dass die Teilnehmenden während d
 er Calls selbstverantwortlich auf sich und ihre Grenzen und Bedürfnisse a
 chten. Es gibt keine Kapazitäten im Rahmen der Veranstaltung\, persönlic
 he Prozesse aufzugreifen. Es gibt keinen extra Breakout-Room.\n&nbsp\;\nMi
 t Caffyn Jesse\, Pascal Beaumart\, Dr. Gisela Fux Wolf\, Kristin Drotziger
  und Mandy Erdmann. Gehostet von Mareen Scholl\n&nbsp\;\n21. Oktober: Kris
 tin Drotziger (Sexological Bodyworkerin www.freifuehlsein.com) &amp\; Mand
 y Erdmann (Sozialpädagogin www.wildwasser-chemnitz.de)\n18. November: Caf
 fyn Jesse\, Sexological Bodywork &amp\; Sacred Intimacy www.ecstaticbelong
 ing.com ENGLISH LANGUAGE\n16. Dezember: Pascal Beaumart www.holistic-bodyw
 ork.org\n20. Januar: Dr. Gisela Fux Wolf www.psychotherapie-neue-kant.de/d
 ipl-psych-dr-gisela-wolf\n&nbsp\;\n27. Februar-1. März 2026\nEinzeln buch
 barer praktischer Workshop mit Mareen in Berlin.\n&nbsp\;\nKosten:\nEinzel
 ner zoom-Call: 40€\nAlle zoom-Calls: 140€\nAlle Zoom-Calls + Workshop:
  Frühbuchung bis 19. August: 490€ / regulär: 520€\nWorkshop alleine:
  Frühbuchung 370€ / regulär 400€\n(nur möglich\, falls bis zu Jahre
 sbeginn 2026 noch Plätze frei sind. Gesamtbuchungen bekommen Vorrang.)\n&
 nbsp\;\nSollte Geld ein Thema sein\, melde dich gerne.\n&nbsp\;\n\n\n\nInf
 os und Anmeldung: Bitte mit Rechnungsadresse an mail@mareenscholl.de\n\n\n
 \nDiese Veranstaltung wird als Weiterbildung und mit 19% USt. ausgezeichne
 t.   
ATTACH;FMTTYPE=image/jpeg:https://www.isbberlin.com/wp-content/uploads/202
 5/05/6b35c234-4b44-927f-cf5b-c8b439be0b13.webp
END:VEVENT
BEGIN:VTIMEZONE
TZID:Europe/Berlin
X-LIC-LOCATION:Europe/Berlin
BEGIN:DAYLIGHT
DTSTART:20250330T030000
TZOFFSETFROM:+0100
TZOFFSETTO:+0200
TZNAME:CEST
END:DAYLIGHT
END:VTIMEZONE
END:VCALENDAR