BEGIN:VCALENDAR
VERSION:2.0
PRODID:-//wp-events-plugin.com//7.2.3.1//EN
TZID:Europe/Berlin
X-WR-TIMEZONE:Europe/Berlin
BEGIN:VEVENT
UID:30@isbberlin.com
DTSTART;TZID=Europe/Berlin:20200602T193000
DTEND;TZID=Europe/Berlin:20200602T220000
DTSTAMP:20191106T204452Z
URL:https://www.isbberlin.com/events/queerbodyhealingspace-3/
SUMMARY:QueerBodyHealingSpace
DESCRIPTION:Monthly on Tuesday evenings from 7.30pm - 10pm we invite you to
  the the Queer Body Healing Space events. In this space we would like to c
 ome together in a bodydiverse\, Sex- and bodypositive space to share\, lea
 rn\, celebrate our Bodies/ourselves and be together. The evenings are host
 ed by Nino Mar Seliz with Mini-Workshops by different facilitators (one of
  the main facilitators is Ayo) to different topics for example "meditative
  touch"\, "show and tell"\, "consent" etc..\n\nThe topic of the night will
  be announced beforehand on our website. Get updated!\n\nYou are welcome t
 o come as you are! Bring your friends*\, cosy clothes and a blanket.\n\n*L
 anguage: English\n*Entrance-fee: sliding scale 5-25 Euros\n*Time: 7.30pm-1
 0pm\n*Address: Eldenaer str 44\, F'hain. close to S storkower str.\n*Acces
 sability: the space/toilet is wheelchair-accessible.\n\nThe context is: se
 xological bodywork\, healing space\, communitywork\, somatics\, systemic a
 pproach\, empowerment\, queer\, dykes\, gay\, trans*\, inter*\, enby\, int
 ersectional.\n\nRegistration: info@atelierofembodiment.com\n\nLooking forw
 ard to see you! &amp\; spread the word &#x1f49c\;
ATTACH;FMTTYPE=image/jpeg:https://www.isbberlin.com/wp-content/uploads/201
 9/11/QBHS-1.jpg
LOCATION:Beratungshaus Friedrichshain\, Eldenaer Str. 44\, Berlin\, 10247\,
  Deutschland
X-APPLE-STRUCTURED-LOCATION;VALUE=URI;X-ADDRESS=Eldenaer Str. 44\, Berlin\,
  10247\, Deutschland;X-APPLE-RADIUS=100;X-TITLE=Beratungshaus Friedrichsha
 in:geo:0,0
END:VEVENT
BEGIN:VTIMEZONE
TZID:Europe/Berlin
X-LIC-LOCATION:Europe/Berlin
BEGIN:DAYLIGHT
DTSTART:20200329T030000
TZOFFSETFROM:+0100
TZOFFSETTO:+0200
TZNAME:CEST
END:DAYLIGHT
END:VTIMEZONE
END:VCALENDAR