BEGIN:VCALENDAR
VERSION:2.0
PRODID:-//wp-events-plugin.com//7.2.3.1//EN
TZID:Europe/Berlin
X-WR-TIMEZONE:Europe/Berlin
BEGIN:VEVENT
UID:55@isbberlin.com
DTSTART;TZID=Europe/Berlin:20200225T193000
DTEND;TZID=Europe/Berlin:20200225T220000
DTSTAMP:20200209T231543Z
URL:https://www.isbberlin.com/events/queerbodyhealingspace-ritual-play-led
 -by-ayo/
SUMMARY:QueerBodyHealingSpace – 'Ritual Play' led by Ayo
DESCRIPTION:Monthly on Tuesday evenings from 7.30pm - 10pm we invite you to
  the the Queer Body Healing Space events. In this space we would like to c
 ome together in a bodydiverse\, Sex- and bodypositive space to share\, lea
 rn\, celebrate our Bodies/ourselves and be together.\n\nThe topic of the 1
 1th of February will be:\n\n"Celebrating Sensation through Continuum" with
  Jo Koppe\n\n\nThis evening on Feb. 11th is about tapping into the inheren
 t juiciness and queerness of our cells with inspiration through the somati
 c practice continuum. We will slow down enough to find places of delicious
  stillness and places of fluidity in our body. Through breath\, sound\, mi
 cro movements and (self)touch we will drop into a state of quietly celebra
 ting the complex\, ever-changing simplicity of ourselves.\n\nYou are welco
 me to come as you are! Bring your friends*\, cosy clothes and a blanket.\n
 \n*Language: English\n*Entrance-fee: sliding scale 10-20Euros\n*Time: 7.30
 pm-10pm\n*Address: Eldenaer str 44\, F'hain. close to S storkower str.\n*A
 ccessability: the space/toilet is wheelchair-accessible.\n\nThe context is
 : sexological bodywork\, healing space\, communitywork\, somatics\, system
 ic approach\, empowerment\, queer\, dykes\, gay\, trans*\, inter*\, enby\,
  intersectional.\n\nRegistration: info@atelierofembodiment.com\n\nLooking 
 forward to see you! &amp\; spread the word &#x1f49c\;
ATTACH;FMTTYPE=image/jpeg:https://www.isbberlin.com/wp-content/uploads/201
 9/11/QBHS-1.jpg
CATEGORIES:Veranstaltung
LOCATION:Beratungshaus Friedrichshain\, Eldenaer Str. 44\, Berlin\, 10247\,
  Deutschland
X-APPLE-STRUCTURED-LOCATION;VALUE=URI;X-ADDRESS=Eldenaer Str. 44\, Berlin\,
  10247\, Deutschland;X-APPLE-RADIUS=100;X-TITLE=Beratungshaus Friedrichsha
 in:geo:0,0
END:VEVENT
BEGIN:VTIMEZONE
TZID:Europe/Berlin
X-LIC-LOCATION:Europe/Berlin
BEGIN:STANDARD
DTSTART:20191027T020000
TZOFFSETFROM:+0200
TZOFFSETTO:+0100
TZNAME:CET
END:STANDARD
END:VTIMEZONE
END:VCALENDAR