BEGIN:VCALENDAR
VERSION:2.0
PRODID:-//wp-events-plugin.com//7.2.3.1//EN
TZID:Europe/Berlin
X-WR-TIMEZONE:Europe/Berlin
BEGIN:VEVENT
UID:254@isbberlin.com
DTSTART;TZID=Europe/Berlin:20250115T190000
DTEND;TZID=Europe/Berlin:20250115T210000
DTSTAMP:20241213T111021Z
URL:https://www.isbberlin.com/events/restful-resolutions-setting-gentle-in
 tentions-for-the-new-year/
SUMMARY:Restful Resolutions: Setting Gentle Intentions for the New Year
DESCRIPTION:Restful Resolutions: Setting Gentle Intentions for the New Year
 \nIf you're exhausted and tired of making ambitious resolutions\, but stil
 l want to use the hopeful and positive energy of the new year to make a me
 aningful change in your life\, this workshop is for you.\nAranja will guid
 e you through soothing somatic-emotional exercises to identify which inten
 tion for the new year emerges from your heart and body. We will also look 
 at how to make the year ahead more restful. What downtime does your system
  need in order to support you with your deepest wish in the next year?\nAt
  the end we will (very briefly) invite our minds to join us in the process
  of identifying small\, easy steps we can implement to support the intenti
 ons set by body\, heart and soul. This is so that all parts of us may be o
 n board as we gently slide into the new year.\nYou can book your tickets h
 ere: https://www.eventbrite.de/e/restful-resolutions-setting-gentle-intent
 ions-for-the-new-year-tickets-1106181862729?aff=ISB\nAranja (she/they) is 
 a queer death doula\, somatic trauma therapist and psychological counselor
  who is passionate about taboo subjects such as death\, grief\, trauma\, a
 nd kink. Her focus is on working with people who fall outside the social n
 orm. You can find out more about Aranja at https://www.amplified-humanity.
 com  \nAbout the workshop space:\nThe workshop will take place in English
  in a location in Berlin-Friedrichshain. Unfortunately the space is not wh
 eelchair accessible. You will receive the address upon booking.\nTime: 7-9
  p.m.\nPhotographer: Pawel Sokolowski
ATTACH;FMTTYPE=image/jpeg:https://www.isbberlin.com/wp-content/uploads/202
 4/10/Aranja.jpeg
END:VEVENT
BEGIN:VTIMEZONE
TZID:Europe/Berlin
X-LIC-LOCATION:Europe/Berlin
BEGIN:STANDARD
DTSTART:20241027T020000
TZOFFSETFROM:+0200
TZOFFSETTO:+0100
TZNAME:CET
END:STANDARD
END:VTIMEZONE
END:VCALENDAR