BEGIN:VCALENDAR
VERSION:2.0
PRODID:-//wp-events-plugin.com//7.2.3.1//EN
TZID:Europe/Berlin
X-WR-TIMEZONE:Europe/Berlin
BEGIN:VEVENT
UID:146@isbberlin.com
DTSTART;TZID=Europe/Berlin:20230211T140000
DTEND;TZID=Europe/Berlin:20230211T193000
DTSTAMP:20230127T105541Z
URL:https://www.isbberlin.com/events/schnupperstunden-sexological-bodywork
 -selbstbestimmte-genitalien/
SUMMARY:Schnupperstunden Sexological Bodywork: Selbstbestimmte Genitalien
DESCRIPTION:In diesen Schnupperstunden widmen wir uns unseren Genitalien. W
 ir nehmen uns die Zeit\, unsere bewusste Wahrnehmung auf sie zu richten un
 d mit ihnen in ein sanftes Spüren zu gleiten. Wir schaffen Raum für unse
 re Neugierde und unseren Wissensdurst rund um Genitalien und wir gehen mit
  einem Genital Show &amp\; Tell in die kollektive Begegnung mit ihnen.\n\n
 Im Show &amp\; Tell hast du die Möglichkeit\, deine Genitalien einmal mit
  ihrer Geschichte\, ihrer Persönlichkeit und ihren Empfindungen sichtbar 
 werden zu lassen. Welchen Platz würden deine Genitalien gerne einmal in d
 er Welt einnehmen? Was für eine Botschaft möchten sie mit anderen Mensch
 en teilen? Ganz selbstbestimmt gestaltest du einen Raum zum Geschenk deine
 r Genitalien. Vielleicht ist das für dich ein Ritual voll von Liebe und F
 reude oder vielleicht auch eine Zeit\, in der deine Genitalien einfach ein
 mal ganz unspektakulär und unaufgeregt präsent sein dürfen. Es ist mög
 lich\, dich dabei zu entkleiden\, doch nicht notwendig. Schritt für Schri
 tt kannst du schauen\, was für dich in diesem Moment richtig ist.\n\nFall
 s ein kollektives In-Kontakt-Kommen mit Genitalien ein Schritt für dich i
 st\, der dich lockt und aber auch viel Mut verlangt\, kannst du gerne auf 
 mich zukommen und wir können darüber sprechen\, ob es etwas gibt\, das d
 ich im Kurs unterstützen könnte um sicher und mutig deiner Neugierde zu 
 folgen. Du erreichst mich unter nico@vonhieranlust.de\n\n&nbsp\;\nInhalte\
 n\n 	Ankommen in Gruppe &amp\; Körper\n 	Theorieblock: Genitalien\, Vielf
 alt und Selbstbestimmung\n 	Genitalien spüren (Soloübung)\n 	Genital Sho
 w &amp\; Tell in Kleingruppen\n 	Dauer: 5\,5 Stunden\n 	Gruppengröße: 6-
 12 Teilnehmende\n\nSchnupperstunden Sexological Bodywork\nDie Schnupperstu
 nden sind eine Gelegenheit\, die Methode Sexological Bodywork unverbindlic
 h kennenzulernen und spielerisch auszuprobieren. Die einzelnen Workshops v
 ermitteln Grundkonzepte des Sexological Bodywork und bieten die Möglichke
 it zum praktischen Erfahren. Darin begegnen wir uns als Gruppe und schaffe
 n einen Raum für individuelles und kollektives sexuelles Lernen.\n\nDie S
 chnupperstunden sind insbesondere auch ein Angebot für alle Menschen\, di
 e sich erst vorsichtig an die Außeinandersetzung mit Sexualität im kolle
 ktiven Raum herantasten möchten. Nacktheit und sexueller Ausdruck sind wi
 llkommen\, aber explizit optional. Alle Übungen funktionieren ohne Nackth
 eit und werden auch so vorgestellt. Als Teilnehmende*r kannst du die Übun
 gen deiner eigenen Komfortzone entsprechend gestalten. Du hast die Möglic
 hkeit\, Methoden im Workshop zu erproben und Zuhause in ein tieferes sexue
 lles Forschen mit ihnen zu gehen.\n\nDie professionelle Haltung von Sexolo
 gical Bodyworker*innen wird vorgestellt\, der Workshop zielt jedoch nicht 
 auf eine Professionalisierung der Teilnehmenden ab.\n\nDie Reihe besteht a
 us fünf voneinander unabhängigen Workshops. Die Workshops können einzel
 n gebucht werden.\n\n29.10.2022 - Intentionelles sexuelles Lernen und Erot
 ische Verkörperungspraxis (Orgasmic Yoga)\n10.12.2022 - Empfindungen\, Be
 dürfnisse und Grenzen somatisch kommunizieren\n14.01.2023 - Bewusstes Ber
 ühren &amp\; Slow Touch Massage\n11.02.2023 - Selbstbestimmte Genitalien\
 n11.03.2023 - Faszination Anus &amp\; externe Analmassage\n\n\n&nbsp\;\nDa
 ten\nDatum &amp\; Uhrzeit: 11.02.2023 14:00 - 19:30\n\nSliding Scale: 65
 € Basis / 73€ Regulär / 81€ Support\n\nOrt: 10249 Berlin-Friedrichs
 hain\, tba\n\n&nbsp\;\nWorkshopleitung\nIch bin Nico\, Sexological Bodywor
 ker und Coach für Somatik und Sexualität. Seit 2019 begleite ich Mensche
 n in Sexological Bodywork Einzelsitzungen und mit Lomi Lomi Massagerituale
 n. Ich habe am ISB Berlin gelernt und bin seitdem in verschiedenen Rollen 
 Teil von insgesamt drei Sexological Bodywork Jahrestrainings gewesen\, zul
 etzt mit einem Forschungsprojekt zum Thema Stimme und Sprechen. An der Met
 hode Sexological Bodywork begeistert mich vor allem der Weg der sexuellen 
 Selbstbestimmung\, auf den sie uns einlädt. Die Schnupperstunden sind mei
 n erstes eigenorganisiertes Gruppenangebot und ich freue mich darauf\, die
 se Erfahrung mit dir machen zu dürfen.\n\nMehr über mich und meine Arbei
 t findest du auf www.vonhieranlust.de\n\nMit allen Fragen zum Kurs wende d
 ich bitte per eMail an nico@vonhieranlust.de
END:VEVENT
BEGIN:VTIMEZONE
TZID:Europe/Berlin
X-LIC-LOCATION:Europe/Berlin
BEGIN:STANDARD
DTSTART:20221030T020000
TZOFFSETFROM:+0200
TZOFFSETTO:+0100
TZNAME:CET
END:STANDARD
END:VTIMEZONE
END:VCALENDAR