BEGIN:VCALENDAR
VERSION:2.0
PRODID:-//wp-events-plugin.com//7.2.3.1//EN
TZID:Europe/Berlin
X-WR-TIMEZONE:Europe/Berlin
BEGIN:VEVENT
UID:11@isbberlin.com
DTSTART;TZID=Europe/Berlin;VALUE=DATE:20200228
DTEND;TZID=Europe/Berlin;VALUE=DATE:20200302
DTSTAMP:20200116T005604Z
URL:https://www.isbberlin.com/events/sexological-bodywork-introductory-wor
 kshop-2/
SUMMARY:SOLD OUT – Sexological Bodywork Introductory Workshop
DESCRIPTION:Sexological Bodywork is a new body-based approach that opens sp
 aces where individuals\, couples and groups can learn about sexuality and 
 intimacy. This workshop gives an introduction to the basic approach and th
 e methods used in Sexological Bodywork. As a participants you will be able
  to experience new ways to\n\n 	deepen your capacity to enjoy body sensati
 ons and live a sexuality that is more connected to your body (erotic embod
 iment)\n 	establish deeper bonds in your intimate encounters\n 	create you
 r sexual experiences and communicate your desires more consciously (sexual
  empowerment)\n 	deepen your knowledge about their your sexuality and deve
 lop your erotic abilities\n\nThe foundation of our journey will be creativ
 e and focused body expression\, breathwork\, meditation\, as well as mindf
 ul and sensual whole-body touch as a giver and receiver.\n\nThe workshop a
 dresses people who wish to enrich their life with more conscious intimacy 
 and sensuality and embodied eroticism. For people who are interested in th
 e Sexological Bodywork Professional Training\, this course serves as an ov
 erview and introduction into the methods.\n\nFacilitator\nMareen Scholl\n\
 nAssistant Facilitator\nNino Mar Seliz\n\nTimes\nFriday 10am - 8pm\nSaturd
 ay 10am - 8pm\nSunday 10am - 6pm\n\nVenue\n\nWe are moving the course to v
 illage.berlin!\n\nvillage.berlin\nKurfürstenstrasse 31/32\n10785 Berlin\n
 \n\nUHU Urban Healing Unit  im MOOS\nMoosdorfstraße 7-9\nBerlin\n\nFee\n
 EUR 390.00 / EUR 680.00 for couples\n\nEarly Bird Price\nuntil 2 month bef
 ore workshop start: EUR 40.00 reduction\n\nInformation and registration\ni
 nfo@isbberlin.com
ATTACH;FMTTYPE=image/jpeg:https://www.isbberlin.com/wp-content/uploads/201
 9/10/isb-berlin-front.jpg
CATEGORIES:Workshop
LOCATION:village.berlin\, Kurfürstenstrasse 31/32\, Berlin\, Berlin\, 1078
 5 \, Deutschland
X-APPLE-STRUCTURED-LOCATION;VALUE=URI;X-ADDRESS=Kurfürstenstrasse 31/32\, 
 Berlin\, Berlin\, 10785 \, Deutschland;X-APPLE-RADIUS=100;X-TITLE=village.
 berlin:geo:0,0
END:VEVENT
BEGIN:VTIMEZONE
TZID:Europe/Berlin
X-LIC-LOCATION:Europe/Berlin
BEGIN:STANDARD
DTSTART:20191027T020000
TZOFFSETFROM:+0200
TZOFFSETTO:+0100
TZNAME:CET
END:STANDARD
END:VTIMEZONE
END:VCALENDAR