BEGIN:VCALENDAR
VERSION:2.0
PRODID:-//wp-events-plugin.com//7.2.3.1//EN
TZID:Europe/Berlin
X-WR-TIMEZONE:Europe/Berlin
BEGIN:VEVENT
UID:88@isbberlin.com
DTSTART;TZID=Europe/Berlin;VALUE=DATE:20210514
DTEND;TZID=Europe/Berlin;VALUE=DATE:20210517
DTSTAMP:20200907T124506Z
URL:https://www.isbberlin.com/events/sold-out-sexological-bodywork-introdu
 ctory-workshop-4/
SUMMARY:Sexological Bodywork Introductory Workshop (German)
DESCRIPTION:Sexological Bodywork is a new body-based approach that opens sp
 aces where individuals\, couples and groups can learn about sexuality and 
 intimacy. This workshop gives an introduction to the basic approach and th
 e methods used in Sexological Bodywork. As a participants you will be able
  to experience new ways to\n\n 	deepen your capacity to enjoy body sensati
 ons and live a sexuality that is more connected to your body (erotic embod
 iment)\n 	establish deeper bonds in your intimate encounters\n 	create you
 r sexual experiences and communicate your desires more consciously (sexual
  empowerment)\n 	deepen your knowledge about their your sexuality and deve
 lop your erotic abilities\n\nThe foundation of our journey will be creativ
 e and focused body expression\, breathwork\, meditation\, as well as mindf
 ul and sensual whole-body touch as a giver and receiver.\n\nThe workshop a
 dresses people who wish to enrich their life with more conscious intimacy 
 and sensuality and embodied eroticism. For people who are interested in th
 e Sexological Bodywork Professional Training\, this course serves as an ov
 erview and introduction into the methods.\n\nFacilitator\nMareen Scholl\n\
 nAssistant Facilitator\nNino Mar Seliz\n\nTimes\nFriday 10am - 8pm\nSaturd
 ay 10am - 8pm\nSunday 10am - 6pm\n\nVenue\n\nvillage.berlin\nKurfürstenst
 rasse 31/32\n10785 Berlin\n\n\nFee\nEUR 390.00 / EUR 680.00 for couples\n\
 nEarly Bird Price\nuntil 2 month before workshop start: EUR 40.00 reductio
 n\n\nInformation and registration\ninfo@isbberlin.com
ATTACH;FMTTYPE=image/jpeg:https://www.isbberlin.com/wp-content/uploads/201
 9/10/isb-berlin-front.jpg
CATEGORIES:Workshop
LOCATION:Village Berlin\, Kurfürstenstrasse 31/32\, Berlin\, Berlin/Deutsc
 hland\, 10785\, Deutschland
X-APPLE-STRUCTURED-LOCATION;VALUE=URI;X-ADDRESS=Kurfürstenstrasse 31/32\, 
 Berlin\, Berlin/Deutschland\, 10785\, Deutschland;X-APPLE-RADIUS=100;X-TIT
 LE=Village Berlin:geo:0,0
END:VEVENT
BEGIN:VTIMEZONE
TZID:Europe/Berlin
X-LIC-LOCATION:Europe/Berlin
BEGIN:DAYLIGHT
DTSTART:20210328T030000
TZOFFSETFROM:+0100
TZOFFSETTO:+0200
TZNAME:CEST
END:DAYLIGHT
END:VTIMEZONE
END:VCALENDAR