BEGIN:VCALENDAR
VERSION:2.0
PRODID:-//wp-events-plugin.com//7.2.3.1//EN
TZID:Europe/Berlin
X-WR-TIMEZONE:Europe/Berlin
BEGIN:VEVENT
UID:296@isbberlin.com
DTSTART;TZID=Europe/Berlin;VALUE=DATE:20251206
DTEND;TZID=Europe/Berlin;VALUE=DATE:20251208
DTSTAMP:20250817T120520Z
URL:https://www.isbberlin.com/events/solo-love-verkoerperte-selbstliebe-fu
 er-frauen-vor-ort-modul/
SUMMARY:Solo Love - verkörperte Selbstliebe für Frauen* - Vor-Ort-Modul
DESCRIPTION:Zum 2. Mal startet der Onlinekurs Solo Love - Verkörperte Selb
 stliebe mit Mareen Scholl und Juliette Caryl Morgan. Dieses Mal für Fraue
 n*.\n\nOnline 13. Oktober - 23. November – mit optionalem Vor-Ort-Modul 
 am 6./7. Dezember in Berlin.\n\n&nbsp\;\n\n29. September Freischaltung des
  Onlinekurses\n13. Oktober Online-Themenabend mit Praxis: Ankommen &amp\; 
 Ausrichtung mit unseren 3 Feldern Solo Love\n20. Oktober Online-Themenaben
 d mit Praxis: Atem &amp\; Stimme 19-21.30\n27. Oktober Online-Themenabend 
 mit Praxis: Bewegung\n3. November Online-Themenabend mit Praxis: Berührun
 g\n10. November Online-Themenabend mit Praxis: Genitalien\n17. November On
 line-Themenabend mit Praxis: Lust\, Erregung\, Aktivierung &amp\; Ekstase 
 mit Abschlussritual\n\n&nbsp\;\n\n6./7. Dezember Workshop (einzeln buchbar
 ) in Berlin\n\n&nbsp\;\n\nPreis: \n\nOnlinekurs Solo Love: 430€ Zugängl
 ichkeit/ 650€ Tragfähigkeit/ 780€ solidarische Fülle\n\n&nbsp\;\n\nW
 eitere Infos und Anmeldung hier: Solo Love Onlinekurs\n\n&nbsp\;\n\n\nWies
 o Solo Love für Frauen*?\nDeine Sexualität und Körperlichkeit - Wie fü
 hlt sie sich an für dich? Was bedeutet sie für dich?\nWelche Erfahrungsw
 elten\, Zuschreibungen &amp\; Vorurteile\, Herausforderungen und Genüsse 
 sind damit verbunden?\n\n\n\n\n\nDie Erfahrungen\, Vorstellungen und Wüns
 che sind individuell und vielfältig - und bewegen sich irgendwo zwischen 
 Sinnlichkeit und Frust\, Widerstand und Wieder-Aneignung\, Trauma &amp\; E
 kstase.\n\nSinnliche Lebensfreude\, Lust &amp\; Genuss lassen sich grundle
 gend lernen und auch spielerisch erweitern. Wie fühlt sich das an\, wenn 
 du von allen Bildern und Erwartungen loslässt\, wie deine Sexualität und
  Genuss auszusehen haben? Wenn Genuss und Eros eine alltägliche Praxis we
 rden dürfen? Wenn du Neugierde\, Kreativität und bewusstes Spüren einl
 ädst\, um ganz bei dir selbst anzukommen? Was ist dir wichtig?\n\nSexuali
 täten - und besonders die von Frauen*\, sind außerdem stark geprägt von
  gesellschaftlichen Normen und einschränkenden Geschlechterrollen\, media
 len Bildern und unterschiedlichster Formen von Alltagssexismus und sexuali
 sierter Gewalt. All dies wirkt sich darauf aus\, wie Frauen* Lust in ihrem
  Körper erleben (können oder wollen)\, wie sie sich selbst und ihren Kö
 rper sehen\, wie über Begehren\, Lust und Bedürfnisse gesprochen wird.\n
 \nKörper und Sexualität\, und damit auch das Erleben von Lust und Genuss
 \, sind ständig im Wandel: durch Lebensphasen und -umstände. Je nachdem\
 , ob und wie Frauen Sexualität\, Partnerschaft und intimes Umfeld leben. 
 Die sexuelle und allgemeine Gesundheit spielt eine große Rolle. Spezifisc
 he Symptome wie Vaginismus oder Schmerzen beim Sex\, Endometriose oder Lic
 hen Sclerosus sind weit verbreitet aber wenig beachtet. Und die hormonelle
 n Veränderungen innerhalb des monatlichen Menstruationszyklus als auch de
 r gesamten Lebensspanne von Menarche über Perimenopause bis Postmenopause
  bringen immer wieder neue Themen und Bedürfnisse mit sich.\n\nGanz gleic
 h\, wo du dich auf deinem Weg befindest: Bei Solo Love können alle Erfahr
 ungen miteinander sein und Raum finden.\n\n\n\n
ATTACH;FMTTYPE=image/jpeg:https://www.isbberlin.com/wp-content/uploads/202
 5/05/Final3_Hauptmotiv_square_SCHRIFT_BUTTON_STERN.png
END:VEVENT
BEGIN:VTIMEZONE
TZID:Europe/Berlin
X-LIC-LOCATION:Europe/Berlin
BEGIN:STANDARD
DTSTART:20251026T020000
TZOFFSETFROM:+0200
TZOFFSETTO:+0100
TZNAME:CET
END:STANDARD
END:VTIMEZONE
END:VCALENDAR