BEGIN:VCALENDAR
VERSION:2.0
PRODID:-//wp-events-plugin.com//7.2.3.1//EN
TZID:Europe/Berlin
X-WR-TIMEZONE:Europe/Berlin
BEGIN:VEVENT
UID:91@isbberlin.com
DTSTART;TZID=Europe/Berlin;VALUE=DATE:20210830
DTEND;TZID=Europe/Berlin;VALUE=DATE:20210901
DTSTAMP:20220118T085833Z
URL:https://www.isbberlin.com/events/start-der-onlinephase-zur-ausbildung-
 sexological-bodywork-2021/
SUMMARY:AUSGEBUCHT :: Start der Onlinephase zur Ausbildung Sexological Body
 work 2021
DESCRIPTION:Der Ausbildungslehrgang 2021/22 ist bereits ausgebucht. Falls d
 u Interesse an unseren weiteren bzw. späteren Lehrgängen hast\, melde di
 ch bitte bei unserem Newsletter an\, um auf dem Laufenden zu bleiben. Wir 
 verschicken einen Newsletter ca. 1-4 Mal im Jahr.\n\n\nzoom-Infoabende onl
 ine (de) für die nächsten Ausbildungsmöglichkeiten:\n\n*8. Sept. 2021 1
 9-21 Uhr\nhttps://zoom.us/j/95996808131?pwd=ajFYek4xYlR4K0NVQ05CN2JDUFVlUT
 09\nMeeting-ID: 959 9680 8131\, Kenncode: 738028\nBerlin-Einwahl-Nr: 030-5
 6795800\n\n\n&nbsp\;\n\n\nStart der Onlinephase der Ausbildung in deutsche
 r Sprache 2021:\nWeitere Informationen in unserer Infobroschüre Infobros
 chüreDigital_ISBB_2021-1
ATTACH;FMTTYPE=image/jpeg:https://www.isbberlin.com/wp-content/uploads/201
 9/11/ISB_sexbod_front_.jpg
CATEGORIES:Ausbildung
END:VEVENT
BEGIN:VTIMEZONE
TZID:Europe/Berlin
X-LIC-LOCATION:Europe/Berlin
BEGIN:DAYLIGHT
DTSTART:20210328T030000
TZOFFSETFROM:+0100
TZOFFSETTO:+0200
TZNAME:CEST
END:DAYLIGHT
END:VTIMEZONE
END:VCALENDAR