BEGIN:VCALENDAR
VERSION:2.0
PRODID:-//wp-events-plugin.com//7.2.3.1//EN
TZID:Europe/Berlin
X-WR-TIMEZONE:Europe/Berlin
BEGIN:VEVENT
UID:319@isbberlin.com
DTSTART;TZID=Europe/Berlin;VALUE=DATE:20261106
DTEND;TZID=Europe/Berlin;VALUE=DATE:20261109
DTSTAMP:20260114T130226Z
URL:https://www.isbberlin.com/events/vertiefungskurs-sexological-bodywork-
 ii/
SUMMARY:Vertiefungskurs Sexological Bodywork & somatisches Sexualcoaching I
 I
DESCRIPTION:Für Sexological Bodyworker*innen und andere Intimacy Professio
 nals\nWann?\n2 x 3 Tage\, einzeln und gesamt buchbar\n17.-19. April 2026\n
 06.-08. November 2026\n\n&nbsp\;\nBist du Sexological Bodyworker*in oder S
 exbod in Ausbildung?\nPotenziell ist die Gruppe auch offen für andere Pro
 fessionals im Feld Sexualität\, Intimität\, Beziehungen\, Sinnlichkeit- 
 Coaches\, Therapeut*innen oder Körperarbeiter*innen. Allerdings nur na
 ch persönlicher Absprache.\n\nDiese Gruppe unterstützt dich in deiner pe
 rsönlichen und professionellen Entwicklung und hebt dich auf das nächste
  Level – in die Tiefe.\n\nDie Weiterbildung ist eine Möglichkeit deine 
 Praxis zu vertiefen\, auch wenn du nicht das gesamte Level 2 durchlaufen m
 öchtest oder keinen Platz mehr bekommen hast.\n\nDie Gruppe hat eine Grun
 dstruktur\, arbeitet aber vor allem angepasst an die Lernbedürfnisse und 
 Themen der Teilnehmenden. Ihr werdet schon vorab bereits nach Euren Inter
 essen befragt. Und wir arbeiten mit dem\, was ihr an Themen und Interessen
  mitbringt und was sich in der Gruppe zeigt.\n\n 	Wir lernen\, üben und p
 raktizieren Körperarbeit\, somatisches Coaching\, somatische Gesprächsf
 ührung und andere Methoden.\n 	Wir widmen uns fachlichen Fragen zu deiner
  Arbeit und schauen uns Klient*innenfälle und Methodenfragen an.\n 	Wir s
 chauen auf Herausforderungen mit Klient*innen\n 	Wir beleuchten deine eige
 nen Lebensthemen\, blinde Flecken und Superpowers bezüglich Kontakt\, Int
 imität\, Sexualität und Liebe.\n 	Wir fragen nach deiner Motivation und 
 Wunde\, diese Arbeit zu machen.\n 	Wir fragen nach deiner Ausrichtung und 
 Vision\, dem Vorankommen deines Business\n\nDu teilst deine Prozesse und A
 nliegen mit anderen erfahrenen Practitioner*innen und findest einen Raum d
 es Austauschs über persönliche und professionelle Themen. Es wird Live-D
 emos geben und viel Raum zum miteinander Üben und Forschen. Die Gruppe le
 bt von der Lebendigkeit der Teilnehmenden.\n\n&nbsp\;\nMögliche Inhalte k
 önnen sein:\n\n 	Sexological Bodywork\n 	Somatisches &amp\; kreatives Coa
 ching und somatische Gesprächsführung\n 	Traumasensitive Körperarbeit u
 nd -therapie\n 	Integral Pelvic Work\n 	Massage &amp\; Körperarbeit\n 	Au
 fstellungsarbeit\n 	Teilearbeit\n 	Embodiment &amp\; Qi Gong\n\nEventuell 
 wird die Weiterbildung nach den 2 Modulen fortgesetzt.\n\n&nbsp\;\n\nKoste
 n\n\nInsgesamt 750€/ Frühbuchung Kombiticket bis 10. Februar 2026: 680
 €\n\nEinzeln je 380€/ Frühbuchung einzeln bis 10. Februar 2026: 350
 €\n\n&nbsp\;\n\nOrt: Berlin Mitte\, Ackerstraße. Der Raum ist leider ni
 cht barrierefrei.\n\n&nbsp\;\n\nZeiten: 3 Tage\, ganztags\n\ndie genauen Z
 eiten folgen\n\n&nbsp\;\nTeamende:\n&nbsp\;\n\n\n\nMareen Scholl\nMareen i
 st somatischer Coach\, Pelvic Work Practitionerin und Begleiterin für Sex
 ualität\, Intimität und verkörperte Spiritualität.\n\nMit ihrer Arbeit
  begleitet Mareen Menschen jeglichen Geschlechts mit ihren Herzensanliegen
 : ihre Visionen in die Welt zu bringen und bewusster in Körper\, Geist un
 d Welt zu leben. Sie unterstützt darin\, der eigenen Körperweisheit zu l
 auschen: um das eigene Wesen zu verkörpern\, Selbstwirksamkeit zu stärke
 n\, Traumata zu integrieren\, den Pleasure-Körper zu erweitern und eine e
 rfüllte Sexualität zu leben. Als Pelvic Work Practitioner*in arbeitet si
 e strukturell zu Anliegen sexueller Lust\, Gesundheit und Becken-Wohl.\n\n
 Mit 15 Jahren Erfahrung in Sexological Bodywork und Körperarbeit\, Tao-Yo
 ga &amp\; Qi Gong\, Kink &amp\; BDSM\, kinky Sexwork und sexpositiven Expe
 rimentierräumen begleitet sie Menschen in differenzierten Räumen ihres l
 ust- und sinnvollen Seins. Sie ist ausgebildet in verschiedenen Formen der
  Körperarbeit und Massage\, Integral Pelvic Work\, trauma-orientierter ga
 nzheitlicher Körperarbeit und -therapie/ Holistic Bodywork und freier Auf
 stellungs- und Teilearbeit. Im Rahmen ihres Weges der taoistischen inneren
  Alchemie entwickelt sie ihre Fähigkeiten in Te Yi Special Medicine\, ein
 er Qi-Heilmethode.\n\nMareen ist weiß\, cis-weiblich und wird nicht behin
 dert.\n\nwww.mareenscholl.de\n\n&nbsp\;\n\n&nbsp\;\n\n\n\nLukas Geschwind 
 (er/Lukas) Das Leben\, das sich mit und durch uns bewegt\, in aller Feinhe
 it zu erforschen ist es\, was Lukas an der körperbasierten Begleitungsarb
 eit fasziniert und wach macht. In seiner Arbeit als Sexological Bodyworker
  und somatischer Coach verstehet er sich als Mensch\, der unterstützt\, a
 ngelegte Potentiale erfühl- und erfahrbar werden zu lassen\, hin zu einem
  freieren und selbstbestimmten Ausdruck des eigenen (erotischen) Wesens. D
 er Körper im Kontext von Gesellschaft spielt für ihn in dieser Arbeit ei
 ne besondere Rolle: Wie in-formieren uns  Systeme\, in denen wir uns bewe
 gen und was davon entspricht wirklich unserem eigenen Ausdruck von Sinn(-l
 ichkeit)\, Sexualität\, Geschlecht etc.? Seine Arbeit ist geprägt von ei
 ner langen künstlerischen Laufbahn\, dem Tanz mit freien somatischen Bewe
 gungsansätzen\, Gemeinschaftsbildungsprozessen\, Naturverbindung\, Ritual
 arbeit und der Erforschung der Verbindung von Sexualität und Trauer(arbei
 t). www.lukasgeschwind.de\n\n&nbsp\;\n\n&nbsp\;\n\n&nbsp\;\n\n&nbsp\;
CATEGORIES:Praxis,Workshop
END:VEVENT
BEGIN:VTIMEZONE
TZID:Europe/Berlin
X-LIC-LOCATION:Europe/Berlin
BEGIN:STANDARD
DTSTART:20261025T020000
TZOFFSETFROM:+0200
TZOFFSETTO:+0100
TZNAME:CET
END:STANDARD
END:VTIMEZONE
END:VCALENDAR