BEGIN:VCALENDAR
VERSION:2.0
PRODID:-//wp-events-plugin.com//7.2.3.1//EN
TZID:Europe/Berlin
X-WR-TIMEZONE:Europe/Berlin
BEGIN:VEVENT
UID:294@isbberlin.com
DTSTART;TZID=Europe/Berlin;VALUE=DATE:20260227
DTEND;TZID=Europe/Berlin;VALUE=DATE:20260302
DTSTAMP:20260131T092807Z
URL:https://www.isbberlin.com/events/vor-ort-mareen-scholl-rike-schulz-pro
 fessionelle-achtsame-11-begleitung-von-menschen-die-sexuelle-traumatisieru
 ngen-und-sexualisierte-gewalt-erfahren-haben-in-der-somatischen-sexologisc
 hen/
SUMMARY:Workshop mit Mareen: Professionelle & achtsame 1:1 Begleitung von M
 enschen\, die sexuelle Traumatisierungen und sexualisierte Gewalt erfahren
  haben - in der somatischen & sexologischen Körperarbeit/ Coaching/ Körp
 ertherapie
DESCRIPTION:Über den Workshop\nDem Workshop gingen 4 Zoom-Calls mit Profes
 sionals verschiedener Methoden voraus (diese sind keine Voraussetzung für
  eine Teilnahme am Workshop).\nDer 3-Tages-Workshop sammelt Wissen und Mö
 glichkeiten aus diesen vergangenen zoom-Calls und verschafft zudem einen 
 Überblick über praktische Tools\, Arbeitsprinzipien\, Haltungen und Hint
 ergründe zur Arbeit mit sexuellem Trauma und sexualisierter Gewalt.\nDer 
 Kurs bietet Professionals die Möglichkeit\, über die eigene Praxiserfahr
 ung in Austausch zu kommen. Wir besprechen Praxisfälle bzw. erforschen di
 ese in Übungs-Sessions.\nTheoretisch und mit praktischen Übungen verfolg
 en wir die Frage\, wie Selbstwirksamkeit\, Verkörperung und Wiederaneignu
 ng\, vielleicht auch Heilung von Verletzungen in der somatischen Arbeit un
 terstützt werden können. Womit gilt es\, besonders achtsam zu sein\, und
  wo ist Mut\, Neugierde und Kreativität eingeladen? Was sind Grenzen und 
 Möglichkeiten verschiedener somatischer Ansätze als auch der Arbeit Hand
 s-On &amp\; Hands-Off? Wann und wie ist Berührung hilfreich oder schwieri
 g? Wann und wie ist die Hands-Off-Arbeit hilfreich oder schwierig?\nWie bl
 eiben Practitioner*innen als auch Klinet*innen in der gemeinsamen Arbeit o
 rientiert und im Kontakt?\nWie können wir Folge-Verhaltensweisen normalis
 ieren und Schamgefühle verringern?\nWie können Menschen in Alltags-Trigg
 ern zurück in den Moment finden?\nWie können wir in ganz kleinen Schritt
 en sichere Möglichkeiten eröffnen?\nWie wirkt sich sexuelles Trauma auf 
 das Beziehungsleben aus und wie können wir dazu arbeiten?\nUnd möglicher
 weise vieles mehr oder anderes.\n&nbsp\;\nDer Wunsch ist\, Fachbereiche un
 d Methoden einander näher- und in Austausch zu bringen. Die Kursteilnehme
 nden sollen neue Perspektiven\, theoretischen Input und praktische Inspira
 tion mitnehmen und sich für ihre Arbeit inspiriert\, ermutigt und befähi
 gt fühlen.\nDer Workshop richtet sich ausschließlich an Menschen\, welch
 e professionell Klient*innen begleiten\, also z.Bsp. Sexological Bodyworke
 r*innen\, somatische Coaches\, Beratende oder Körpertherapeut*innen. Auch
  in Ausbildung befindlich.\n&nbsp\;\n27. Februar - 1. März 2026Einzeln bu
 chbarer praktischer Workshop mit Mareen in Berlin Mitte.\nFr 10.30-18 Uhr\
 nSa 11-19 Uhr\nSo 10-17.30 Uhr\n&nbsp\;\nKosten\n400€\nSollte Geld ein T
 hema sein\, melde dich gerne.Diese Veranstaltung wird als Weiterbildung mi
 t 19% USt. ausgezeichnet.\n&nbsp\;\nAnmeldung: Bitte mit Rechnungsadresse 
 unter mail@mareenscholl.de\n
ATTACH;FMTTYPE=image/jpeg:https://www.isbberlin.com/wp-content/uploads/202
 5/05/6b35c234-4b44-927f-cf5b-c8b439be0b13.webp
END:VEVENT
BEGIN:VTIMEZONE
TZID:Europe/Berlin
X-LIC-LOCATION:Europe/Berlin
BEGIN:STANDARD
DTSTART:20251026T020000
TZOFFSETFROM:+0200
TZOFFSETTO:+0100
TZNAME:CET
END:STANDARD
END:VTIMEZONE
END:VCALENDAR