BEGIN:VCALENDAR
VERSION:2.0
PRODID:-//wp-events-plugin.com//7.2.3.1//EN
TZID:Europe/Berlin
X-WR-TIMEZONE:Europe/Berlin
BEGIN:VEVENT
UID:317@isbberlin.com
DTSTART;TZID=Europe/Berlin;VALUE=DATE:20260629
DTEND;TZID=Europe/Berlin;VALUE=DATE:20260702
DTSTAMP:20260326T081011Z
URL:https://www.isbberlin.com/events/wheel-of-consent-kurs/
SUMMARY:Wheel of consent®-Kurs mit Puma Höflich für Ausbildungsinteressi
 erte
DESCRIPTION:Wenn sich Konsens sicher anfühlt - Einführung in das Wheel of
  consent®\n\nzur Vorbereitung für Menschen\, die die Ausbildung “Sexol
 ogical Bodywork 2026/27” oder  "Verkörperte Begleitung" am ISB Berlin 
 anstreben\n\n&nbsp\;\nAnmeldung: direkt über die Buchungsplattform und ü
 ber das Formular: Bitte melde Dich zusätzlich hier an. Diese Infos werde
 n direkt an Puma weitergeleitet. \n\n&nbsp\;\n\n 	Kennst du das Gefühl\,
  nicht genau zu wissen\, was du willst?\n 	Oder dich in Beziehungen immer 
 wieder dabei zu ertappen\, dass du gibst\, um etwas zu bekommen?- \n 	Fä
 llt es dir schwer\, klare Vereinbarungen zu treffen\, Grenzen zu setzen od
 er bei dir zu bleiben?\n 	Traust du dich manchmal nicht nein zu sagen aus 
 Angst vor den Konsequenzen?\n\nWie wäre es\, wenn es in jeder Interaktion
  Raum gäbe\, in dem alle Beteiligten klar spüren\, was sie wollen\, ihre
  Grenzen kennen\, diese ausdrücken und Verantwortung für die eigenen Gef
 ühle übernehmen?\n\nVielleicht bist du in deiner Familie oder deinem Umf
 eld die erste Person\, die etwas anders macht\, als das\, was „vorgesehe
 n“ war. Wenn wir wenig Vorbilder dafür haben\, was möglich ist – wie
  sollen wir dann wissen\, wie groß wir wünschen dürfen?\n\nDieser Works
 hop eröffnet dir einen Raum\, in dem du Beziehung und Gemeinschaft neu un
 d auf einer tieferen Ebene erfahren kannst. Du entwickelst die Fähigkeit\
 , klar\, ehrlich und mit innerer Integrität zu kommunizieren und tragfäh
 ige\, verbindliche Vereinbarungen zu gestalten.\n\nDu bist eingeladen\, di
 ch mit allem einzubringen\, was dich ausmacht. In diesem Raum lernst du\, 
 verborgene Erwartungen und unausgesprochene Abmachungen bewusst wahrzunehm
 en und sie in klare Vereinbarungen zu verwandeln. So entsteht Vertrauen\, 
 Tiefe und eine Qualität von Begegnung\, die echte Verbindung ermöglicht.
 \nWas erwartet Dich?\n\n 	Einführung in somatisches Erleben: Schulung der
  Wahrnehmung und Einordnung körperlicher Empfindungen\n 	Körperwahrnehmu
 ng als Kompass für Bedürfnisse und Grenzen \n 	Erkennen von Spannungs- u
 nd Entspannungszuständen \n 	Üben von Techniken\, wie Du  mit aktivierte
 m Nervensystem handlungsfähig bleibst \n 	Lernen\, Wünsche auszudrücke
 n und nach dem zu fragen\, was Du willst \n 	Übungen zu Grenzsetzung\, Ei
 nvernehmen und emotionaler Selbstverantwortung \n 	Arbeit zu zweit oder zu
  dritt\, mit oder ohne Berührung (alles freiwillig) \n 	Lachen und Spass 
  \n\n\nFür wen ist dieser Workshop?\nFür Menschen\, die\n\n 	authentisch
 e und klare Beziehungen gestalten möchten \n 	ihr Spektrum an Wünschen e
 rweitern wollen \n 	Schwierigkeiten haben\, Bedürfnisse auszudrücken ode
 r Grenzen zu setzen und zu halten \n 	in Beziehungen häufig über ihre Gr
 enzen gehen oder sich zurückziehen \n 	immer wieder in Beziehungen landen
 \, die ihnen eigentlich nicht guttun \n\n&nbsp\;\nFür wen ist dieser Wor
 kshop nicht geeignet?\nDieser Workshop ist nicht passend für dich\, wenn 
 du\n\n 	aktuell nicht in der Lage bist\, körperliche Empfindungen oder Ge
 fühle wahrzunehmen \n 	Wenn Du nicht an allen Tagen teilnehmen kannst\n\
 nWas du mitnimmst\n\n 	mehr Klarheit und innere Orientierung in sozialen S
 ituationen \n 	einen besseren Zugang zu deinem „Ja“\, „Nein“ und 
 „Vielleicht“ \n 	ein neues Verständnis von Konsens als Haltung – ni
 cht als Technik \n 	mehr Verantwortung für deine eigenen Gefühle und wen
 iger für die deines Gegenübers \n 	ein Empfinden von Verbundenheit mit a
 nderen\, die sich nach Ähnlichem sehnen wie Du \n 	Klarheit darüber\, wa
 s es für Dich braucht\, um einen sicher(er)en Rahmen für Verbindung(en) 
 zu schaffen \n\nWann: Montag bis Mittwoch: 29.6. – 01.07.2026\n\nZeiten:
 \n\nMontag: 12.00 – 18.30 (Mittagspause 14.30 – 16.00 Uhr)\n\nDienstag
 : 10.00 – 18.30 (Mittagspause 13.00 – 15.00 Uhr)\n\nMittwoch: 10.00 
 – 17.30 (Mittagspause 13.00 – 15.00 Uhr)\n\n\nWo: lakestudios Berlin-
 Friedrichshagen\n\nÜbernachtung: ist gegen einen Aufpreis möglich (15-35
 Euro/Nacht pro Person\, je nach Schlafsituation)\n\nGruppengröße: höchs
 tens 16 Teilnehmende\n\nKosten: 390\,00Euro\n\n\nWER: \n\nPuma Höflich 
  \n\nPuma gestaltet Erfahrungsräume\, in denen Menschen sich auf tiefgeh
 ende und zugleich sanfte Weise wieder mit ihrem Körper verbinden. Im Zent
 rum seiner Arbeit steht die Begleitung von Menschen\, die den Wunsch haben
 \, ihre Beziehungen in Übereinstimmung mit ihren Wünschen und eigenen Gr
 enzen zu gestalten.\n\nWas Pumas Arbeit einzigartig macht\, ist nicht nur 
 die Vielfalt der Methoden\, sondern die besondere Art\, wie er diese zu ei
 nem klaren\, kohärenten und zutiefst verkörperten Ansatz verwebt. Theori
 e\, Praxis und gelebte Erfahrung greifen nahtlos ineinander und werden zu 
 einem Lern- und Entwicklungsraum\, der sowohl präzise als auch lebendig i
 st.\n\nPuma arbeitet privilegienbewusst und traumasensibel\, mit einem aus
 geprägten Fokus auf Sicherheit\, Wahlfreiheit und Empowerment. Seine eige
 ne gelebte Erfahrung\, trans\, queer\, älter und working class zu sein\, 
 bezieht er ebenso mit ein wie andere systemische Ungleichheiten (z.B.in Be
 zug auf Race und Ableismus) - achtsam\, differenziert und mit großer Klar
 heit.\n\nSeit vielen Jahren unterrichtet Puma das Wheel of Consent®. Er i
 st bekannt dafür\, diese Praxis in einer Weise zu vermitteln\, die zuglei
 ch zugänglich\, fein nuanciert und zutiefst erfahrungsorientiert ist. Men
 schen lernen bei Puma nicht nur Konzepte\, sondern die Fähigkeit\, klare\
 , stimmige und lebendige Vereinbarungen mit sich selbst und anderen zu tre
 ffen.\n\nPuma ist Teil des Lehrteams der School of Consent. Seit vielen Ja
 hren entwickelt er das Wheel of Consent® mit anderen kontinuierlich weite
 r – als Werkzeug für individuelle und kollektive Transformation.\n\nHum
 or ist eine zentrale Qualität in Pumas Arbeit. Gerade in herausfordernden
  Situationen schafft er damit Leichtigkeit und öffnet Raum für Verbindun
 g.\n\nAssistenz: \n\nKuem (er/ keine Pronomen) trans maskuline Person of
  Colour\, ist ausgebildeter Sexological Bodyworker\, Cranio-sakraler Thera
 peut und Somatischer Coach. Er begleitet Klient*innen sowohl in Einzelsitz
 ungen als auch in Körperwahrnehmungsworkshops. Kuem ist besonders daran i
 nteressiert\, mit tin/ queeren/ BIPoC Communities zu arbeiten. Oberstes Ge
 bot ist für ihn dabei Neugier\, Offenheit und das Einlassen auf den Proze
 ss. Kuem möchte spielerische Begegnungen mit dem Selbst initiieren.\n\nht
 tps://www.queerbodywork.net/ Instagram https://tinyurl.com/kuemsong\n\nD
 arius Rex (er.ihn/keine Pronomen) ist Sexological Bodyworker\, Community O
 rganizer und Aktivist für trans* Rechte. Für ihn ist der Körper ein kra
 ftvoller Ort politischer Wirksamkeit und persönlicher Erfahrung. In seine
 r Arbeit hinterfragt er fortlaufend Normen rund um Identität\, Geschlecht
 \, Sexualität und gesellschaftliche Tabus - mit tiefem Respekt für Verle
 tzlichkeit\, die er als wertvolle Ressource für persönliche Entfaltung b
 egreift. Als Aktivist setzt er sich besonders für solidarische Gemeinscha
 fts- und Erfahrungsräume ein\, in denen queere\, kinky und sexpositive Me
 nschen sich sicher fühlen und sich entfalten können - gerade in diesen p
 olitisch herausfordernden Zeiten.\n\nhttps://pleasure-matters.de Instagra
 m @your_pleasure_matters\n\nBarrieren: das Studio ist ebenerdig\, der Zug
 ang ist für Rollinutzende Menschen möglich. Es gibt auch ein berollbares
  WC. Die Zimmer sind nicht barrierefrei ausgestattet\, es gibt auch keine 
 berollbare Dusche. Der Kurs findet in deutscher Lautsprache statt. Vor Ort
  ist kein Blindenleitsystem vorhanden. Der Ort ist ruhig\, wenig Reize im 
 Raum und es gibt einen Garten. Der Kurs ist kostenpflichtig.\n\nAnmeldung:
  direkt über die Buchungsplattform und über das Formular: Bitte melde Di
 ch zusätzlich hier an. Diese Infos wandern direkt an Puma. \n\n&nbsp\;\
 n\n&nbsp\;
END:VEVENT
BEGIN:VTIMEZONE
TZID:Europe/Berlin
X-LIC-LOCATION:Europe/Berlin
BEGIN:DAYLIGHT
DTSTART:20260329T030000
TZOFFSETFROM:+0100
TZOFFSETTO:+0200
TZNAME:CEST
END:DAYLIGHT
END:VTIMEZONE
END:VCALENDAR